BEGIN:VCALENDAR
VERSION:2.0
PRODID:-//ChamberMaster//Event Calendar 2.0//EN
METHOD:PUBLISH
X-PUBLISHED-TTL:P3D
REFRESH-INTERVAL:P3D
CALSCALE:GREGORIAN
BEGIN:VEVENT
DTSTART:20191024T080000Z
DTEND:20191024T113000Z
X-MICROSOFT-CDO-ALLDAYEVENT:FALSE
SUMMARY:2019 Eumundi Business Awards
DESCRIPTION:Presentation and Gala Evening... \n\n\n\nHosted by Eumundi Trading Pty Ltd\, the 2019 Awards celebrate excellence in business across four major business sectors.\n\n\n\nBest Eumundi Parkside Market Business\n\nJudged by EPM Admin and sponsored by Eumundi Trading Pty Ltd with winner awarded Trophy and $1\,000 cash prize.\n\n\n\nBest Eumundi Square Business\n\nJudged by Admin ESQ and sponsored by Eumundi Trading Pty Ltd with winner awarded trophy and $1\,000 cash prize.\n\n\n\nBest EDCA Wednesday Market Business\n\nJudged by EDCA Admin\, and sponsored by Eumundi and District Community Association Inc with winner awarded Trophy and $1\,000 cash prize.\n\n\n\nThe Eumundi Chamber of Commerce Business of the Year Award.\n\nJudged by an independent panel from Visit Sunshine Coast\, Tourism Noosa and Bendigo and Adelaide Bank\, these awards recognising excellence in business amongst Eumundi Chamber members in two categories.\n\n\n\nThe ECC Best Business of the Year Award - sponsored by Eumundi Chamber of Commerce\, Dan Purdie MP\, David Suters Timbercraftsman and Eumundi Trading Pty Ltd.\n\n\n\nThe ECC Emerging Business Award\, sponsored by Eumundi Chamber of Commerce\, Bendigo and Adelaide Bank\, and Eumundi Trading Pty Ltd.\n\n\n\nAll Eumundi 4562 businesses and community are welcome with complementary entertainment and catering sponsored by Eumundi Trading Pty Ltd.\n\n\n\nDrinks available via cash bar at pub prices by Joe's Waterhole Hotel.
X-ALT-DESC;FMTTYPE=text/html:<span style="font-size:14px\;"><strong>Presentation and Gala Evening...</strong>&nbsp\;</span><br />\n<br />\n<span style="font-size:14px\;">Hosted by Eumundi Trading Pty Ltd\, the 2019 Awards celebrate excellence in business across four major business sectors.<br />\n<br />\n<strong>Best Eumundi Parkside Market Business</strong><br />\nJudged by EPM Admin and sponsored by Eumundi Trading Pty Ltd with winner awarded Trophy and $1\,000 cash prize.<br />\n<br />\n<strong>Best Eumundi Square Business</strong><br />\nJudged by Admin ESQ and sponsored by Eumundi Trading Pty Ltd with winner awarded trophy and $1\,000 cash prize.<br />\n<br />\n<strong>Best EDCA Wednesday Market Business</strong><br />\nJudged by EDCA Admin\, and sponsored by Eumundi and District Community Association Inc with winner awarded Trophy and $1\,000 cash prize.<br />\n<br />\n<strong>The Eumundi Chamber of Commerce Business of the Year Award.</strong><br />\nJudged by an independent panel from Visit Sunshine Coast\, Tourism Noosa and Bendigo and Adelaide Bank\, these awards recognising excellence in business amongst Eumundi Chamber members in two categories.<br />\n<br />\n<em>The ECC Best Business of the Year Award</em> - sponsored by Eumundi Chamber of Commerce\, Dan Purdie MP\, David Suters Timbercraftsman and Eumundi Trading Pty Ltd.<br />\n<br />\n<em>The ECC Emerging Business Award</em>\, sponsored by Eumundi Chamber of Commerce\, Bendigo and Adelaide Bank\, and Eumundi Trading Pty Ltd.<br />\n<br />\nAll Eumundi 4562 businesses and community are welcome with complementary entertainment and catering sponsored by Eumundi Trading Pty Ltd.<br />\n<br />\nDrinks available via cash bar at pub prices by Joe&#39\;s Waterhole Hotel.</span><br />\n<br />\n&nbsp\;
LOCATION:Eumundi Square Napier Road Eumundi Qld 4562
UID:e.3473.1723
SEQUENCE:3
DTSTAMP:20260421T225638Z
URL:https://business.eumundichamber.com.au/events/details/2019-eumundi-business-awards-1723
END:VEVENT

END:VCALENDAR
