BEGIN:VCALENDAR
VERSION:2.0
PRODID:-//ChamberMaster//Event Calendar 2.0//EN
METHOD:PUBLISH
X-PUBLISHED-TTL:P3D
REFRESH-INTERVAL:P3D
CALSCALE:GREGORIAN
BEGIN:VEVENT
DTSTART:20251118T000000Z
DTEND:20251118T030000Z
X-MICROSOFT-CDO-ALLDAYEVENT:FALSE
SUMMARY:AI Kickstarter II: The Deep Dive - Building Your Custom AI Growth Architect!
DESCRIPTION:PLEASE NOTE THIS WORKSHOP HAS BEEN CANCELLED. We thank the Cooroy Chamber for the collaboration. For members interested in this topic\, please contact us if you'd like a workshop arranged in the New Year. \n\n\n\nThe Cooroy Chamber of Commerce and the Eumundi Chamber of Commerce invite all members and local business owners to join us for an unmissable workshop: The Deep Dive   Building Your Custom AI Growth Architect!\n\nJoin us for an advanced\, hands-on workshop with Huxley Peckham\, where you'll build your own personalised AI assistant tailored to your business.\n\nWhether you joined the first session or not\, this workshop is designed for all levels\, giving small businesses practical\, budget-friendly tools to work smarter and grow faster.\n\nLearn how to:\n\n\n	Create a customised AI assistant trained on your business\n	Save time on daily tasks\n	Boost productivity without breaking the bank\n\n\nAbout Your Presenter   Huxley Peckham\n\nHuxley Peckham is a lifelong technologist and Co-Founder of Tech Horizon Labs\, specialising in technology and systems integration. With deep expertise in AI\, software\, and automation\, Huxley designs robust\, end-to-end solutions that solve real-world business challenges. After teaching AI and working with multiple startups\, he now helps Australian SMBs integrate the latest AI tools with speed\, precision\, and adaptability.\n\nSeats are limited and this workshop will sell out fast.\n\n\n\nDon't forget your laptop!\n\n\n\nYou're also welcome to stay on for the Cooroy Chamber networking lunch straight after the workshop\, the perfect opportunity to connect with other local business leaders.\n\n\n\nBookings to both the AI Workshop\, and the lunch are essential.\n\nBook Now to Secure Your Spot!
X-ALT-DESC;FMTTYPE=text/html:<div style="margin: 0px 0px 1rem\; font-family: Montserrat\; font-size: 12pt\; color: rgb(0\, 0\, 0)\;"><span style="font-size:16px\;"><span style="font-family:arial\;">PLEASE NOTE THIS WORKSHOP HAS BEEN CANCELLED. We thank the&nbsp\;Cooroy Chamber for the collaboration. For members interested in this topic\, please contact us if you&#39\;d like a workshop arranged in the New Year.&nbsp\;<br />\n<br />\nThe Cooroy Chamber of Commerce and the Eumundi Chamber of Commerce invite all members and local business owners to join us for an unmissable workshop:&nbsp\;<em><strong>The Deep Dive &ndash\; Building Your Custom AI Growth Architect!</strong></em></span></span></div>\n\n<div style="margin: 0px 0px 1rem\; font-family: Montserrat\; font-size: 12pt\; color: rgb(0\, 0\, 0)\;"><span style="font-size:16px\;"><span style="font-family:arial\;"><strong>Join us for an advanced\, hands-on workshop with Huxley Peckham\, where you&rsquo\;ll build your own personalised AI assistant tailored to your business.</strong></span></span></div>\n\n<div style="margin: 0px 0px 1rem\; font-family: Montserrat\; font-size: 12pt\; color: rgb(0\, 0\, 0)\;"><span style="font-size:16px\;"><span style="font-family:arial\;">Whether you joined the first session or not\, this workshop is designed for all levels\, giving small businesses practical\, budget-friendly tools to work smarter and grow faster.</span></span></div>\n\n<div style="margin: 0px 0px 1rem\; font-family: Montserrat\; font-size: 12pt\; color: rgb(0\, 0\, 0)\;"><span style="font-size:16px\;"><span style="font-family:arial\;">Learn how to:</span></span></div>\n\n<ul style="color: rgb(34\, 34\, 34)\; font-family: Arial\, Helvetica\, sans-serif\; font-size: small\; margin: 0px 0px 1rem\; padding-left: 0px\; list-style-position: inside\;">\n	<li style="margin-left: 15px\; font-family: Montserrat\; font-size: 12pt\; color: rgb(0\, 0\, 0)\;"><span style="font-size:16px\;"><span style="font-family:arial\;">Create a customised AI assistant trained on your business</span></span></li>\n	<li style="margin-left: 15px\; font-family: Montserrat\; font-size: 12pt\; color: rgb(0\, 0\, 0)\;"><span style="font-size:16px\;"><span style="font-family:arial\;">Save time on daily tasks</span></span></li>\n	<li style="margin-left: 15px\; font-family: Montserrat\; font-size: 12pt\; color: rgb(0\, 0\, 0)\;"><span style="font-size:16px\;"><span style="font-family:arial\;">Boost productivity without breaking the bank</span></span></li>\n</ul>\n\n<div style="margin: 0px\; font-family: Montserrat\; font-size: 12pt\; color: rgb(0\, 0\, 0)\;"><strong><span style="font-size:16px\;"><span style="font-family:arial\;">About Your Presenter &ndash\; Huxley Peckham</span></span></strong></div>\n\n<div style="margin: 0px 0px 1rem\; font-family: Montserrat\; font-size: 12pt\; color: rgb(0\, 0\, 0)\;"><span style="font-size:16px\;"><span style="font-family:arial\;">Huxley Peckham is a lifelong technologist and Co-Founder of Tech Horizon Labs\, specialising in technology and systems integration. With deep expertise in AI\, software\, and automation\, Huxley designs robust\, end-to-end solutions that solve real-world business challenges. After teaching AI and working with multiple startups\, he now helps Australian SMBs integrate the latest AI tools with&nbsp\;speed\, precision\, and adaptability.</span></span></div>\n\n<div style="margin: 0px 0px 1rem\; font-family: Montserrat\; font-size: 12pt\; color: rgb(0\, 0\, 0)\;"><span style="font-size:16px\;"><span style="font-family:arial\;">Seats are limited and this workshop will sell out fast.<br />\n<br />\nDon&rsquo\;t forget your laptop!<br />\n<br />\nYou&#39\;re&nbsp\;also welcome to stay on for the Cooroy Chamber networking lunch&nbsp\;straight after the workshop\,&nbsp\;the perfect opportunity to connect with other local business leaders.<br />\n<br />\nBookings to both the AI Workshop\, and the lunch are essential.</span></span></div>\n\n<div style="margin: 0px 0px 1rem\; font-family: Montserrat\; font-size: 12pt\; color: rgb(0\, 0\, 0)\;"><strong><span style="font-size:16px\;"><span style="font-family:arial\;">Book Now to Secure Your Spot!</span></span></strong></div>\n
LOCATION:The Cooroy Hotel
UID:e.3473.5730
SEQUENCE:3
DTSTAMP:20260421T130923Z
URL:https://business.eumundichamber.com.au/events/details/ai-kickstarter-ii-the-deep-dive-building-your-custom-ai-growth-architect-5730
END:VEVENT

END:VCALENDAR
