BEGIN:VCALENDAR
VERSION:2.0
PRODID:-//ChamberMaster//Event Calendar 2.0//EN
METHOD:PUBLISH
X-PUBLISHED-TTL:P3D
REFRESH-INTERVAL:P3D
CALSCALE:GREGORIAN
BEGIN:VEVENT
DTSTART:20200424T200000Z
DTEND:20200424T203000Z
X-MICROSOFT-CDO-ALLDAYEVENT:FALSE
SUMMARY:ANZAC Day 2020 Light Up The Dawn
DESCRIPTION:At 6am on ANZAC Day\, Australians are being encouraged to take part in a different kind of Dawn Service\, by standing on their driveway or balcony to light up the dawn.\n\n\n\nClick the link to be redirected to Sunshine Coast Council's website for more information and how you can participate.\n\n\n\nhttps://www.sunshinecoast.qld.gov.au/Experience-Sunshine-Coast/Events/Whats-On/3663
X-ALT-DESC;FMTTYPE=text/html:<span style="color: rgb(83\, 86\, 90)\; font-family: Arial\; font-size: 14px\;">At 6am on ANZAC Day\, Australians are being encouraged to take part in a different kind of Dawn Service\, by standing on their driveway or balcony to light up the dawn.<br />\n<br />\nClick the link to be redirected to Sunshine Coast Council&#39\;s website for more information and how you can participate.</span><br />\n<br />\n<a href="https://www.sunshinecoast.qld.gov.au/Experience-Sunshine-Coast/Events/Whats-On/3663">https://www.sunshinecoast.qld.gov.au/Experience-Sunshine-Coast/Events/Whats-On/3663</a>
LOCATION:At your home.
UID:e.3473.1748
SEQUENCE:3
DTSTAMP:20260421T142536Z
URL:https://business.eumundichamber.com.au/events/details/anzac-day-2020-light-up-the-dawn-1748
END:VEVENT

END:VCALENDAR
