BEGIN:VCALENDAR
VERSION:2.0
PRODID:-//ChamberMaster//Event Calendar 2.0//EN
METHOD:PUBLISH
X-PUBLISHED-TTL:P3D
REFRESH-INTERVAL:P3D
CALSCALE:GREGORIAN
BEGIN:VEVENT
DTSTART:20200201T070000Z
DTEND:20200201T093000Z
X-MICROSOFT-CDO-ALLDAYEVENT:FALSE
SUMMARY:Back to PNG night Revisited!
DESCRIPTION:Back to PNG night Revisited!\n\nDogura Women and Children's\n\nHealth and Wellbeing Fundraiser\n\n- Liklik kaikai food and a complimentary drink\n\n- Sing sing and danis by Milne Bay Social Club\n\n- Tall tales\, reliving memories\, military personnel\, bankers\, kiaps\, Dogura video\n\n- Cash bar open at community prices. No BYO please\n\n- Exclusive collector's items auctions\, $5 raffle and artefacts on exhibition
X-ALT-DESC;FMTTYPE=text/html:Back to PNG night Revisited!<br />\nDogura Women and Children&rsquo\;s<br />\nHealth and Wellbeing Fundraiser<br />\n- Liklik kaikai food and a complimentary drink<br />\n- Sing sing and danis by Milne Bay Social Club<br />\n- Tall tales\, reliving memories\, military personnel\, bankers\, kiaps\, Dogura video<br />\n- Cash bar open at community prices. No BYO please<br />\n- Exclusive collector&rsquo\;s items auctions\, $5 raffle and artefacts on exhibition<br />\n&nbsp\;
LOCATION:School of Arts Eumundi
UID:e.3473.1725
SEQUENCE:3
DTSTAMP:20260421T190233Z
URL:https://business.eumundichamber.com.au/events/details/back-to-png-night-revisited-1725
END:VEVENT

END:VCALENDAR
