BEGIN:VCALENDAR
VERSION:2.0
PRODID:-//ChamberMaster//Event Calendar 2.0//EN
METHOD:PUBLISH
X-PUBLISHED-TTL:P3D
REFRESH-INTERVAL:P3D
CALSCALE:GREGORIAN
BEGIN:VEVENT
DTSTART:20200806T013000Z
DTEND:20200806T023000Z
X-MICROSOFT-CDO-ALLDAYEVENT:FALSE
SUMMARY:Basics of SEO: How to Rank on Page#1 for Small Business
DESCRIPTION:Brought to you by Experience Eumundi\, in partnership with industry expert A 'La Marketing\, this one-hour workshop for Eumundi Chamber members covering the Basics of SEO\, is for small businesses:\n\n     with an established website\n\n     moving into the digital space or starting from scratch\n\n     wanting to be found on local Google searches\n\n     wanting to learn about and understand how to set themselves up for SEO success.\n\n\n\nRegistration is essential online at https://alamarketing.com.au/seo-workshop/
X-ALT-DESC;FMTTYPE=text/html:<p class="p1" style="margin: 0px 0px 7.5px\; font-variant-numeric: normal\; font-variant-east-asian: normal\; font-stretch: normal\; font-size: 12px\; line-height: normal\; font-family: &quot\;Helvetica Neue&quot\;\; color: rgb(66\, 66\, 66)\;"><span style="font-size:14px\;">Brought to you by Experience Eumundi\, in partnership with industry expert A &#39\;La Marketing\, this one-hour workshop&nbsp\;for Eumundi Chamber members covering&nbsp\;the Basics of SEO\, is for small businesses:</span></p>\n\n<p class="p2" style="margin: 5px 0px\; font-variant-numeric: normal\; font-variant-east-asian: normal\; font-stretch: normal\; font-size: 12px\; line-height: normal\; font-family: &quot\;Helvetica Neue&quot\;\; color: rgb(66\, 66\, 66)\;"><span style="font-size:14px\;">&bull\;&nbsp\;&nbsp\; &nbsp\;with an established website</span></p>\n\n<p class="p2" style="margin: 5px 0px\; font-variant-numeric: normal\; font-variant-east-asian: normal\; font-stretch: normal\; font-size: 12px\; line-height: normal\; font-family: &quot\;Helvetica Neue&quot\;\; color: rgb(66\, 66\, 66)\;"><span style="font-size:14px\;">&bull\;&nbsp\;&nbsp\; &nbsp\;moving into the digital space or starting from scratch</span></p>\n\n<p class="p2" style="margin: 5px 0px\; font-variant-numeric: normal\; font-variant-east-asian: normal\; font-stretch: normal\; font-size: 12px\; line-height: normal\; font-family: &quot\;Helvetica Neue&quot\;\; color: rgb(66\, 66\, 66)\;"><span style="font-size:14px\;">&bull\;&nbsp\;&nbsp\; &nbsp\;wanting to be found on local Google searches</span></p>\n\n<p class="p2" style="margin: 5px 0px\; font-variant-numeric: normal\; font-variant-east-asian: normal\; font-stretch: normal\; font-size: 12px\; line-height: normal\; font-family: &quot\;Helvetica Neue&quot\;\; color: rgb(66\, 66\, 66)\;"><span style="font-size:14px\;">&bull\;&nbsp\;&nbsp\; &nbsp\;wanting to learn about and understand how to set themselves up for SEO success.<br />\n<br />\n<strong>Registration is&nbsp\;essential&nbsp\;online at&nbsp\;</strong><a href="https://alamarketing.com.au/seo-workshop/">https://alamarketing.com.au/seo-workshop/&nbsp\;</a><strong>&nbsp\;</strong></span></p>\n
LOCATION:ONLINE WEBINAR
UID:e.3473.1780
SEQUENCE:3
DTSTAMP:20260423T085814Z
URL:https://business.eumundichamber.com.au/events/details/basics-of-seo-how-to-rank-on-page-1-for-small-business-1780
END:VEVENT

END:VCALENDAR
