BEGIN:VCALENDAR
VERSION:2.0
PRODID:-//ChamberMaster//Event Calendar 2.0//EN
METHOD:PUBLISH
X-PUBLISHED-TTL:P3D
REFRESH-INTERVAL:P3D
CALSCALE:GREGORIAN
BEGIN:VEVENT
DTSTART:20230726T020000Z
DTEND:20230726T040000Z
X-MICROSOFT-CDO-ALLDAYEVENT:FALSE
SUMMARY:BCQ: Business Matters - Queensland's Growth Horizon
DESCRIPTION:With the Olympic and Paralympic Games on the horizon\, what opportunities lie ahead for Queensland business?\n\n\n\nJoin BCQ for an interactive conversation on Queensland's Growth Horizon to 2032 and beyond over a business lunch at QUT Gardens Point Campus\, Brisbane. \n\n\n\nSponsored by Australian Retirement Trust.
X-ALT-DESC;FMTTYPE=text/html:With the Olympic and Paralympic Games on the horizon\, what opportunities lie ahead for Queensland business?<br />\n<br />\nJoin BCQ for an interactive conversation on Queensland&#39\;s Growth Horizon to 2032 and beyond over a business lunch at QUT Gardens Point Campus\, Brisbane.&nbsp\;<br />\n<br />\nSponsored by Australian Retirement Trust.
LOCATION:Room 360 QUT Gardens Point Campus Brisbane
UID:e.3473.2670
SEQUENCE:3
DTSTAMP:20260422T045834Z
URL:https://business.eumundichamber.com.au/events/details/bcq-business-matters-queensland-s-growth-horizon-2670
END:VEVENT

END:VCALENDAR
