BEGIN:VCALENDAR
VERSION:2.0
PRODID:-//ChamberMaster//Event Calendar 2.0//EN
METHOD:PUBLISH
X-PUBLISHED-TTL:P3D
REFRESH-INTERVAL:P3D
CALSCALE:GREGORIAN
BEGIN:VEVENT
DTSTART:20230719T050000Z
DTEND:20230719T060000Z
X-MICROSOFT-CDO-ALLDAYEVENT:FALSE
SUMMARY:BCQ: Supporting business mental health and wellbeing
DESCRIPTION:Business Chamber Queensland in parthernship with the Queensland Mental Health Commission invites you to join a discussion on mental health and wellbeing and the impact on business. \n\n\n\nWith a panel of experts from Beyond Blue\, Everymind and Business Wellness Coach\, be sure to put this one in your calendar!
X-ALT-DESC;FMTTYPE=text/html:Business Chamber Queensland in parthernship with the Queensland Mental Health Commission invites you to join a discussion on mental health and wellbeing and the impact on business.&nbsp\;<br />\n<br />\nWith a panel of experts from Beyond Blue\, Everymind and Business Wellness Coach\, be sure to put this one in your calendar!&nbsp\;
LOCATION:Zoom Webinar Online
UID:e.3473.2667
SEQUENCE:3
DTSTAMP:20260422T045840Z
URL:https://business.eumundichamber.com.au/events/details/bcq-supporting-business-mental-health-and-wellbeing-2667
END:VEVENT

END:VCALENDAR
