BEGIN:VCALENDAR
VERSION:2.0
PRODID:-//ChamberMaster//Event Calendar 2.0//EN
METHOD:PUBLISH
X-PUBLISHED-TTL:P3D
REFRESH-INTERVAL:P3D
CALSCALE:GREGORIAN
BEGIN:VEVENT
DTSTART:20200320T090000Z
DTEND:20200320T123000Z
X-MICROSOFT-CDO-ALLDAYEVENT:FALSE
SUMMARY:Boutique Cinema: Once Upon A Time In Hollywood
DESCRIPTION:Join us in for a night of Boutique Cinema in The Bunker at The Imperial Hotel Eumundi with a screening of Tarantino's ONCE UPON A TIME IN HOLLYWOOD on Friday 20 March. \n\n\n\nDoors open 7pm\, with the screening commencing at 7.30pm.\n\nThis won't be your average movie night. Limited seats available - yes\, it's boutique!\n\n\n\nEnjoy this absolute cracker film from the comfort of comfy lounge chairs\, with bar snacks available to enjoy throughout the movie.\n\n\n\nAbout ONCE UPON A TIME IN HOLLYWOOD: \n\nOnce Upon a Time in Hollywood is a 2019 comedy-drama film written and directed by Quentin Tarantino and set in 1969 Los Angeles. Actor Rick Dalton (Leonardo DiCaprio) gained fame and fortune by starring in a 1950s television Western\, but is now struggling to find meaningful work in a Hollywood that he doesn't recognize anymore. He spends most of his time drinking and palling around with Cliff Booth (Brad Pitt)\, his easygoing best friend and longtime stunt double. Rick also happens to live next door to Roman Polanski and Sharon Tate -the filmmaker and budding actress whose futures will forever be altered by members of the Manson Family.\n\n\n\nThe ninth film from the writer-director features a large ensemble cast and multiple storylines in a tribute to the final moments of Hollywood's golden age.\n\nRated MA15
X-ALT-DESC;FMTTYPE=text/html:<span style="font-size:16px\;"><span style="color: rgb(29\, 33\, 41)\; font-family: &quot\;Helvetica Neue&quot\;\, Helvetica\, Arial\, sans-serif\; white-space: pre-wrap\;">Join us in for a night of Boutique Cinema in The Bunker at The Imperial Hotel Eumundi with a screening of Tarantino&#39\;s ONCE UPON A TIME IN HOLLYWOOD on Friday 20 March. </span><br style="color: rgb(29\, 33\, 41)\; font-family: &quot\;Helvetica Neue&quot\;\, Helvetica\, Arial\, sans-serif\; font-size: 14px\; white-space: pre-wrap\;" />\n<br style="color: rgb(29\, 33\, 41)\; font-family: &quot\;Helvetica Neue&quot\;\, Helvetica\, Arial\, sans-serif\; font-size: 14px\; white-space: pre-wrap\;" />\n<span style="color: rgb(29\, 33\, 41)\; font-family: &quot\;Helvetica Neue&quot\;\, Helvetica\, Arial\, sans-serif\; white-space: pre-wrap\;">Doors open 7pm\, with the screening commencing at 7.30pm.</span><br style="color: rgb(29\, 33\, 41)\; font-family: &quot\;Helvetica Neue&quot\;\, Helvetica\, Arial\, sans-serif\; font-size: 14px\; white-space: pre-wrap\;" />\n<span style="color: rgb(29\, 33\, 41)\; font-family: &quot\;Helvetica Neue&quot\;\, Helvetica\, Arial\, sans-serif\; white-space: pre-wrap\;">This won&#39\;t be your average movie night. Limited seats available - yes\, it&#39\;s boutique!</span><br style="color: rgb(29\, 33\, 41)\; font-family: &quot\;Helvetica Neue&quot\;\, Helvetica\, Arial\, sans-serif\; font-size: 14px\; white-space: pre-wrap\;" />\n<br style="color: rgb(29\, 33\, 41)\; font-family: &quot\;Helvetica Neue&quot\;\, Helvetica\, Arial\, sans-serif\; font-size: 14px\; white-space: pre-wrap\;" />\n<span style="color: rgb(29\, 33\, 41)\; font-family: &quot\;Helvetica Neue&quot\;\, Helvetica\, Arial\, sans-serif\; white-space: pre-wrap\;">Enjoy this absolute cracker film from the comfort of comfy lounge chairs\, with bar snacks available to enjoy throughout the movie.</span><br />\n<br style="color: rgb(29\, 33\, 41)\; font-family: &quot\;Helvetica Neue&quot\;\, Helvetica\, Arial\, sans-serif\; font-size: 14px\; white-space: pre-wrap\;" />\n<strong><span style="color: rgb(29\, 33\, 41)\; font-family: &quot\;Helvetica Neue&quot\;\, Helvetica\, Arial\, sans-serif\; white-space: pre-wrap\;">About ONCE UPON A TIME IN HOLLYWOOD: </span></strong><br style="color: rgb(29\, 33\, 41)\; font-family: &quot\;Helvetica Neue&quot\;\, Helvetica\, Arial\, sans-serif\; font-size: 14px\; white-space: pre-wrap\;" />\n<span style="color: rgb(29\, 33\, 41)\; font-family: &quot\;Helvetica Neue&quot\;\, Helvetica\, Arial\, sans-serif\; white-space: pre-wrap\;">Once Upon a Time in Hollywood is a 2019 comedy-drama film written and directed by Quentin Tarantino and set in 1969 Los Angeles. Actor Rick Dalton (Leonardo DiCaprio) gained fame and fortune by starring in a 1950s television Western\, but is now struggling to find meaningful work in a Hollywood that he doesn&#39\;t recognize anymore. He spends most of his time drinking and palling around with Cliff Booth (Brad Pitt)\, his easygoing best friend and longtime stunt double. Rick also happens to live next door to Roman Polanski and Sharon Tate -the filmmaker and budding actress whose futures will forever be altered by members of the Manson Family.</span><br style="color: rgb(29\, 33\, 41)\; font-family: &quot\;Helvetica Neue&quot\;\, Helvetica\, Arial\, sans-serif\; font-size: 14px\; white-space: pre-wrap\;" />\n<br style="color: rgb(29\, 33\, 41)\; font-family: &quot\;Helvetica Neue&quot\;\, Helvetica\, Arial\, sans-serif\; font-size: 14px\; white-space: pre-wrap\;" />\n<span style="color: rgb(29\, 33\, 41)\; font-family: &quot\;Helvetica Neue&quot\;\, Helvetica\, Arial\, sans-serif\; white-space: pre-wrap\;">The ninth film from the writer-director features a large ensemble cast and multiple storylines in a tribute to the final moments of Hollywood&#39\;s golden age.</span><br style="color: rgb(29\, 33\, 41)\; font-family: &quot\;Helvetica Neue&quot\;\, Helvetica\, Arial\, sans-serif\; font-size: 14px\; white-space: pre-wrap\;" />\n<span style="color: rgb(29\, 33\, 41)\; font-family: &quot\;Helvetica Neue&quot\;\, Helvetica\, Arial\, sans-serif\; white-space: pre-wrap\;">Rated MA15</span></span>
LOCATION:The Bunker Imperial Hotel Eumundi 1 Etheridge Street Eumundi QLD 4562
UID:e.3473.1742
SEQUENCE:3
DTSTAMP:20260421T172815Z
URL:https://business.eumundichamber.com.au/events/details/boutique-cinema-once-upon-a-time-in-hollywood-1742
END:VEVENT

END:VCALENDAR
