BEGIN:VCALENDAR
VERSION:2.0
PRODID:-//ChamberMaster//Event Calendar 2.0//EN
METHOD:PUBLISH
X-PUBLISHED-TTL:P3D
REFRESH-INTERVAL:P3D
CALSCALE:GREGORIAN
BEGIN:VEVENT
DTSTART:20191009T211500Z
DTEND:20191009T221500Z
X-MICROSOFT-CDO-ALLDAYEVENT:FALSE
SUMMARY:Boxing with B Active Personal Training and Group Fitness
DESCRIPTION:
X-ALT-DESC;FMTTYPE=text/html:
LOCATION:Eumundi Amphitheatre 67 Memorial Drive EUMUNDI QLD 4562
UID:e.3473.1664
SEQUENCE:3
DTSTAMP:20260421T231328Z
URL:https://business.eumundichamber.com.au/events/details/boxing-with-b-active-personal-training-and-group-fitness-10-10-2019-1664
END:VEVENT

END:VCALENDAR
