BEGIN:VCALENDAR
VERSION:2.0
PRODID:-//ChamberMaster//Event Calendar 2.0//EN
METHOD:PUBLISH
X-PUBLISHED-TTL:P3D
REFRESH-INTERVAL:P3D
CALSCALE:GREGORIAN
BEGIN:VEVENT
DTSTART:20230302T060000Z
DTEND:20230302T083000Z
X-MICROSOFT-CDO-ALLDAYEVENT:FALSE
SUMMARY:Business Sustainability Workshop
DESCRIPTION:Sunshine Coast Council in partnership with Cleantech Industries to deliver a series of workshops\, co-hosted by Chambers of Commerce throughout the Sunshine Coast to help businesses identify and reduce energy\, water\, and waste.\n\n\n\nDevelop a Sustainability Action Plan to implement into your business\, and learn simple no cost actions\, to larger equipment investments\, all of which will improve efficiency and reduce your environmental footprint.
X-ALT-DESC;FMTTYPE=text/html:<p style="margin: 0px\; font-stretch: normal\; font-size: 14px\; line-height: normal\; font-family: &quot\;Helvetica Neue&quot\;\; color: rgb(0\, 0\, 0)\; -webkit-text-stroke-width: initial\; -webkit-text-stroke-color: rgb(0\, 0\, 0)\; background-color: rgba(0\, 0\, 0\, 0)\;"><span style="font-kerning: none">Sunshine Coast Council in partnership with Cleantech Industries to deliver a series of workshops\, co-hosted by Chambers of Commerce throughout the Sunshine Coast to help businesses identify and reduce energy\, water\, and waste.<br />\n<br />\nDevelop a Sustainability Action Plan to implement into your business\, and learn simple no cost actions\, to larger equipment investments\, all of which will improve efficiency and reduce your environmental footprint.&nbsp\;</span></p>\n
LOCATION:
UID:e.3473.2433
SEQUENCE:3
DTSTAMP:20260421T231116Z
URL:https://business.eumundichamber.com.au/events/details/business-sustainability-workshop-2433
END:VEVENT

END:VCALENDAR
