BEGIN:VCALENDAR
VERSION:2.0
PRODID:-//ChamberMaster//Event Calendar 2.0//EN
METHOD:PUBLISH
X-PUBLISHED-TTL:P3D
REFRESH-INTERVAL:P3D
CALSCALE:GREGORIAN
BEGIN:VEVENT
DTSTART:20191001T220000Z
DTEND:20191017T040000Z
X-MICROSOFT-CDO-ALLDAYEVENT:FALSE
SUMMARY:Call for Nominations - ECC Business of the Year 2019
DESCRIPTION:Nominate your favourite 4562 business that deserves recognition in the 2019 Eumundi Business Awards.\n\n\n\nFinalists in the running for ECC Awards are judged on submissions and interviews by an independent judging panel for two categories.\n\n\n\n1) Eumundi Chamber of Commerce Inc Business of the Year\n\n$250 Cash Prize sponsored by Eumundi Chamber of Commerce\n\n$250 Cash Prize sponsored by Dan Purdie\, MP for Ninderry\n\nPerpetual Trophy sponsored by David Suters Timbercraftsman\n\n\n\n2) Eumundi Chamber of Commerce Inc Emerging Business\n\n$250 Cash Prize sponsored by Bendigo and Adelaide Bank Ltd\n\n\n\nTotal prizes valued at $1\,000 will be awarded at the Gala Presentation Night\, sponsored by Eumundi Trading Ltd\, at Eumundi Square on Thursday 24th October.\n\n\n\nEumundi Chamber of Commerce management committee gratefully acknowledges the contributions of this years judges... \n\n\n\nKym Sheppard\n\nBusiness Banking Manager\, Sunshine Coast\n\nBendigo and Adelaide Bank Ltd\n\n\n\nAndrew Fairbairn\n\nIndustry & Membership Development Manager\n\nVisit Sunshine Coast\n\n\n\nSue Mikkelsen\n\nMarketing & Communications Coordinator\n\nTourism Noosa\n\n\n\nNominations by email to vice.president@eumundichamber.com.au must be received by 2pm Thursday 17th October 2019.
X-ALT-DESC;FMTTYPE=text/html:Nominate your favourite 4562 business that deserves recognition in the 2019 Eumundi Business Awards.<br />\n<br />\nFinalists in the running for ECC Awards are judged on submissions and interviews by an independent judging panel for two categories.<br />\n<br />\n<strong>1) Eumundi Chamber of Commerce Inc Business of the Year</strong><br />\n$250 Cash Prize sponsored by <em>Eumundi Chamber of Commerce<br />\n$250 Cash Prize sponsored by Dan Purdie\, MP for Ninderry</em><br />\nPerpetual Trophy sponsored by <em>David Suters Timbercraftsman</em><br />\n<br />\n<strong>2) Eumundi Chamber of Commerce Inc Emerging Business</strong><br />\n$250 Cash Prize sponsored by <em>Bendigo and Adelaide Bank Ltd</em><br />\n<br />\nTotal prizes valued at $1\,000 will be awarded at the <strong>Gala Presentation Night\,</strong>&nbsp\;sponsored by <em>Eumundi Trading Ltd</em>\, at <strong>Eumundi Square on Thursday 24th October.</strong><br />\n<br />\nEumundi Chamber of Commerce management committee gratefully acknowledges the contributions of this years judges...&nbsp\;<br />\n<br />\nKym Sheppard<br />\nBusiness Banking Manager\, Sunshine Coast<br />\n<em>Bendigo and Adelaide Bank Ltd</em><br />\n<br />\nAndrew Fairbairn<br />\nIndustry &amp\; Membership Development Manager<br />\n<em>Visit Sunshine Coast</em><br />\n<br />\nSue Mikkelsen<br />\nMarketing &amp\; Communications Coordinator<br />\n<em>Tourism Noosa</em><br />\n<br />\n<span style="color:#000080\;"><strong>Nominations by email to vice.president@eumundichamber.com.au must be received by 2pm Thursday 17th October 2019.</strong></span><br />\n<br />\n<br />\n<br />\n<br />\n<br />\n<br />\n<br />\n&nbsp\;
LOCATION:
UID:e.3473.1722
SEQUENCE:3
DTSTAMP:20260421T231826Z
URL:https://business.eumundichamber.com.au/events/details/call-for-nominations-ecc-business-of-the-year-2019-1722
END:VEVENT

END:VCALENDAR
