BEGIN:VCALENDAR
VERSION:2.0
PRODID:-//ChamberMaster//Event Calendar 2.0//EN
METHOD:PUBLISH
X-PUBLISHED-TTL:P3D
REFRESH-INTERVAL:P3D
CALSCALE:GREGORIAN
BEGIN:VEVENT
DTSTART:20260227T090000Z
DTEND:20260227T103000Z
X-MICROSOFT-CDO-ALLDAYEVENT:FALSE
SUMMARY:CANCELLED Eumundi Coffee Connect
DESCRIPTION:Save the date! \n\n\n\nThe venue will be confirmed closer to the day. \n\n\n\nPLEASE NOTE THIS EVENT HAS BEEN CANCELLED. \n\n\n\nKeep an eye on our calendar for upcoming events in March and April as they drop.
X-ALT-DESC;FMTTYPE=text/html:Save the date!&nbsp\;<br />\n<br />\nThe venue will be confirmed closer to the day.&nbsp\;<br />\n<br />\nPLEASE NOTE THIS EVENT HAS BEEN CANCELLED.&nbsp\;<br />\n<br />\nKeep an eye on our calendar for upcoming events in March and April as they drop.&nbsp\;
LOCATION:TBC
UID:e.3473.5737
SEQUENCE:3
DTSTAMP:20260421T211500Z
URL:https://business.eumundichamber.com.au/events/details/cancelled-eumundi-coffee-connect-5737
END:VEVENT

END:VCALENDAR
