BEGIN:VCALENDAR
VERSION:2.0
PRODID:-//ChamberMaster//Event Calendar 2.0//EN
METHOD:PUBLISH
X-PUBLISHED-TTL:P3D
REFRESH-INTERVAL:P3D
CALSCALE:GREGORIAN
BEGIN:VEVENT
DTSTART:20230222T073000Z
DTEND:20230222T100000Z
X-MICROSOFT-CDO-ALLDAYEVENT:FALSE
SUMMARY:CCIQ Business Connect Networking Night
DESCRIPTION:Join us at CCIQ's inaugural Business Connect networking evening on the rooftop at the Hyatt Regency on Queen Street\, Brisbane\, for an exclusive evening of conversation\, connection\, and canap s. \n\n\n\nHere hear from guest speaker CCIQ member Frosty Boy Global Managing Director\, Dirk Pretorius\, on how he took the company from supplying regular soft serve vans in Yatala in 1976 to exporting to 76 countries and supplying some of the top 5 fast food chains in the world and expanding into the growing beverage category supplying the world's best brands in chocolate beverages.\n\n\n\nREAD MORE...
X-ALT-DESC;FMTTYPE=text/html:<p style="margin: 0px\; font-stretch: normal\; font-size: 14px\; line-height: normal\; font-family: Helvetica\; color: rgb(0\, 0\, 0)\; -webkit-text-stroke-width: initial\; -webkit-text-stroke-color: rgb(77\, 77\, 77)\; background-color: rgba(0\, 0\, 0\, 0)\;"><span style="font-kerning: none">Join us at CCIQ&rsquo\;s&nbsp\;inaugural Business Connect&nbsp\;networking evening on the rooftop at the Hyatt Regency on Queen Street\, Brisbane\,&nbsp\;for an exclusive evening of conversation\, connection\, and canap&eacute\;s.&nbsp\;<br />\n<br />\nHere&nbsp\;hear from&nbsp\;guest speaker CCIQ member Frosty Boy Global Managing Director\, Dirk Pretorius\, on how he took the company from supplying regular soft serve vans in Yatala in 1976 to exporting to 76 countries and supplying some of the top 5 fast food chains in the world and expanding into the growing beverage category supplying the world&rsquo\;s best brands in chocolate beverages.<br />\n<br />\n<a href="https://www.cciq.com.au/news-and-resources/webinars-and-events/cciq-business-connect">READ MORE...</a></span></p>\n
LOCATION:On the rooftop\, Hyatt Regency Queen Street BRISBANE
UID:e.3473.2437
SEQUENCE:3
DTSTAMP:20260421T214622Z
URL:https://business.eumundichamber.com.au/events/details/cciq-business-connect-networking-night-2437
END:VEVENT

END:VCALENDAR
