BEGIN:VCALENDAR
VERSION:2.0
PRODID:-//ChamberMaster//Event Calendar 2.0//EN
METHOD:PUBLISH
X-PUBLISHED-TTL:P3D
REFRESH-INTERVAL:P3D
CALSCALE:GREGORIAN
BEGIN:VEVENT
DTSTART:20221215T070000Z
DTEND:20221215T090000Z
X-MICROSOFT-CDO-ALLDAYEVENT:FALSE
SUMMARY:Chamber Members Christmas Drinks @ Joe's Waterhole Hotel
DESCRIPTION:Eumundi Chamber Members are invited to attend a casual get together for Christmas drinks and nibbles sponsored by Joe's Waterhole Hotel.\n\n\n\nBy invitation only - RSVP's essential.
X-ALT-DESC;FMTTYPE=text/html:Eumundi Chamber Members are invited to attend a casual get together for Christmas drinks and nibbles sponsored by Joe&#39\;s Waterhole Hotel.<br />\n<br />\nBy invitation only - RSVP&#39\;s essential.
LOCATION:Joe's Waterhole Hotel Bistro Memorial Drive EUMUNDI QLD 4562
UID:e.3473.2426
SEQUENCE:3
DTSTAMP:20260421T204007Z
URL:https://business.eumundichamber.com.au/events/details/chamber-members-christmas-drinks-joe-s-waterhole-hotel-2426
END:VEVENT

END:VCALENDAR
