BEGIN:VCALENDAR
VERSION:2.0
PRODID:-//ChamberMaster//Event Calendar 2.0//EN
METHOD:PUBLISH
X-PUBLISHED-TTL:P3D
REFRESH-INTERVAL:P3D
CALSCALE:GREGORIAN
BEGIN:VEVENT
DTSTART:20200328T050000Z
DTEND:20200328T080000Z
X-MICROSOFT-CDO-ALLDAYEVENT:FALSE
SUMMARY:CONTRABAND at Joe's Waterhole
DESCRIPTION:Contraband\, now in their 8th year are one of coasts popular corporate style covers band.\n\n\n\nFeaturing Suzie Keenan fronting her all star band\, Alexis Sawford on guitar\, harmonies\, lead vocals with Corin Cooper on bass and Mark O'Bryen on drums complete the lineup.\n\n\n\nThey play a diverse mix of classic & latest hits across all genres\, disco\, rock\, funk and pop\, it's about having fun and creating a party atmosphere and getting you boogieing on the dance floor.\n\n\n\nSo get the dancing shoes out and the glad rags on\, and check this awesome band out.
X-ALT-DESC;FMTTYPE=text/html:<span style="font-size:16px\;"><span style="color: rgb(29\, 33\, 41)\; font-family: &quot\;Helvetica Neue&quot\;\, Helvetica\, Arial\, sans-serif\; white-space: pre-wrap\;"><strong>Contraband\, </strong>now in their 8th year are one of coasts popular corporate style covers band.<br />\n<br />\nFeaturing Suzie Keenan fronting her all star band\, Alexis Sawford on guitar\, harmonies\, lead vocals with Corin Cooper on bass and Mark O&#39\;Bryen on drums complete the lineup.<br />\n<br />\nThey play a diverse mix of classic &amp\; latest hits across all genres\, disco\, rock\, funk and pop\, it&#39\;s about having fun and creating a party atmosphere and getting you boogieing on the dance floor.<br />\n<br />\nSo get the dancing shoes out and the glad rags on\, and check this awesome band out.</span></span>
LOCATION:Joe's Waterhole Memorial Drive Eumundi QLD 4562
UID:e.3473.1744
SEQUENCE:3
DTSTAMP:20260421T155313Z
URL:https://business.eumundichamber.com.au/events/details/contraband-at-joe-s-waterhole-1744
END:VEVENT

END:VCALENDAR
