BEGIN:VCALENDAR
VERSION:2.0
PRODID:-//ChamberMaster//Event Calendar 2.0//EN
METHOD:PUBLISH
X-PUBLISHED-TTL:P3D
REFRESH-INTERVAL:P3D
CALSCALE:GREGORIAN
BEGIN:VEVENT
DTSTART;VALUE=DATE:20200328
DTEND;VALUE=DATE:20200329
TRANSP:TRANSPARENT
X-MICROSOFT-CDO-ALLDAYEVENT:TRUE
SUMMARY:Earth Hour
DESCRIPTION:
X-ALT-DESC;FMTTYPE=text/html:
LOCATION:
UID:e.3473.1729
SEQUENCE:3
DTSTAMP:20260421T155145Z
URL:https://business.eumundichamber.com.au/events/details/earth-hour-1729
END:VEVENT

END:VCALENDAR
