BEGIN:VCALENDAR
VERSION:2.0
PRODID:-//ChamberMaster//Event Calendar 2.0//EN
METHOD:PUBLISH
X-PUBLISHED-TTL:P3D
REFRESH-INTERVAL:P3D
CALSCALE:GREGORIAN
BEGIN:VEVENT
DTSTART:20200730T213000Z
DTEND:20200730T223000Z
X-MICROSOFT-CDO-ALLDAYEVENT:FALSE
SUMMARY:ECC Members Online Breakfast Session
DESCRIPTION:Eumundi Chamber invites members and guests to join us for our next online breakfast session via Zoom.\n\n\n\nGuest Speakers\n\n	Cr David Law\, Division 10 Councillor\, Sunshine Coast Council\, for an update on Councils 2020/21 Budget\, and Q&A with members.\n	Bamik Baker\, EE Marketing Manager to fill you in on the latest from Experience Eumundi.\n\nJoin in via Zoom (computer or device)\, grab a coffee\, network and catch up on the latest business news\, and member updates.\n\n\n\nOnline registrations essential.\n\n\n\nMeeting access link and code will be emailed to registrants prior to event.
X-ALT-DESC;FMTTYPE=text/html:Eumundi Chamber invites members and guests to join us for our next online breakfast session via Zoom.<br />\n<br />\n<strong>Guest Speakers</strong>\n<ol>\n	<li><em><span style="font-family: &quot\;helvetica neue&quot\;\;">Cr David Law\, Division 10 Councillor\, Sunshine Coast Council\,&nbsp\;</span></em><span style="font-family: &quot\;helvetica neue&quot\;\;">for an update on Councils 2020/21 Budget\, and Q&amp\;A with members.</span></li>\n	<li><span style="font-family: &quot\;helvetica neue&quot\;\;"><em>Bamik Baker\, EE Marketing Manager&nbsp\;</em>to fill you in on the latest from Experience Eumundi.</span></li>\n</ol>\n<span style="font-family: &quot\;helvetica neue&quot\;\;">Join in via Zoom&nbsp\;(computer or device)\, grab a coffee\, network and catch up on the latest business news\, and member updates.</span><br />\n<br />\nOnline registrations essential.<br />\n<br />\nMeeting access link and code will be emailed to registrants prior to event.
LOCATION:
UID:e.3473.1778
SEQUENCE:3
DTSTAMP:20260421T100139Z
URL:https://business.eumundichamber.com.au/events/details/ecc-members-online-breakfast-session-07-31-2020-1778
END:VEVENT

END:VCALENDAR
