BEGIN:VCALENDAR
VERSION:2.0
PRODID:-//ChamberMaster//Event Calendar 2.0//EN
METHOD:PUBLISH
X-PUBLISHED-TTL:P3D
REFRESH-INTERVAL:P3D
CALSCALE:GREGORIAN
BEGIN:VEVENT
DTSTART:20200528T213000Z
DTEND:20200528T223000Z
X-MICROSOFT-CDO-ALLDAYEVENT:FALSE
SUMMARY:ECC Members Online Breakfast Session
DESCRIPTION:Eumundi Chamber invites members and guests to join us for our next online breakfast session via Zoom.\n\n\n\nGuest Speakers\n\n	Paul Fisher\, CEO\, Regional Development Australia Sunshine Coast\, for an update on programs and services to support businesses through these challenging times\,\n	Steve Entincknap\, with a FREE offer from Business Mentoring Noosa\, and \n	Bamik Baker\, EE Marketing Manager to fill you in on the latest from Experience Eumundi.\n\nJoin in via Zoom (computer or device)\, grab a coffee\, network and catch up on the latest business news\, and member updates.\n\n\n\nMeeting access link and code will be emailed to registrants prior to event.
X-ALT-DESC;FMTTYPE=text/html:Eumundi Chamber invites members and guests to join us for our next online breakfast session via Zoom.<br />\n<br />\n<strong>Guest Speakers</strong>\n<ol>\n	<li><em><span style="font-family:helvetica neue\;">Paul Fisher\, CEO\, Regional Development Australia Sunshine Coast\, </span></em><span style="font-family:helvetica neue\;">for an update on programs and services to support businesses through these challenging times\,</span></li>\n	<li><span style="font-family:helvetica neue\;"><em>Steve Entincknap\, </em>with a FREE offer from Business Mentoring Noosa\,&nbsp\;<em>and </em></span></li>\n	<li><span style="font-family:helvetica neue\;"><em>Bamik Baker\, EE Marketing Manager </em>to fill you in on the latest from Experience Eumundi.</span></li>\n</ol>\n<span style="font-family:helvetica neue\;">Join in via Zoom&nbsp\;(computer or device)\, grab a coffee\, network and catch up on the latest business news\, and member updates.</span><br />\n<br />\nMeeting access link and code will be emailed to registrants prior to event.<br />\n<br />\n<br />\n&nbsp\;
LOCATION:
UID:e.3473.1763
SEQUENCE:3
DTSTAMP:20260421T125420Z
URL:https://business.eumundichamber.com.au/events/details/ecc-members-online-breakfast-session-1763
END:VEVENT

END:VCALENDAR
