BEGIN:VCALENDAR
VERSION:2.0
PRODID:-//ChamberMaster//Event Calendar 2.0//EN
METHOD:PUBLISH
X-PUBLISHED-TTL:P3D
REFRESH-INTERVAL:P3D
CALSCALE:GREGORIAN
BEGIN:VEVENT
DTSTART:20200423T213000Z
DTEND:20200423T223000Z
X-MICROSOFT-CDO-ALLDAYEVENT:FALSE
SUMMARY:Eumundi Chamber #businessonline April 2020
DESCRIPTION:Eumundi Chamber of Commerce invites members\, and interested businesses to join in via Zoom from your computer\, phone or device direct from your home\, office or workplace for #businessonline\n\n\n\nSpecial Guest: David Law\, the new Division 10 Councillor\, Sunshine Coast Council\n\n\n\nPlus regular business updates\, welcome to new members\, and members news and updates.\n\n\n\nAlso joining us will be Andrew Fairbairn\, Industry & Membership Development Manager\, Visit Sunshine Coast\, and Bamik Baker\, Marketing Manager\, Experience Eumundi.\n\n\n\n*Registration essential by 5pm Thursday 23 April 2020 to receive 'join meeting' notification and access code.
X-ALT-DESC;FMTTYPE=text/html:<strong>Eumundi Chamber of Commerce</strong> invites members\, and interested businesses to join in via Zoom from your computer\, phone or device direct from your home\, office or workplace for <em><strong>#businessonline</strong></em><br />\n<br />\n<strong>Special Guest:&nbsp\;</strong>David Law\, the new Division 10 Councillor\, Sunshine Coast Council<br />\n<br />\nPlus regular business updates\, welcome to new members\, and members news and updates.<br />\n<br />\nAlso joining us will be Andrew Fairbairn\, Industry &amp\; Membership Development Manager\, Visit Sunshine Coast\, and Bamik Baker\, Marketing Manager\, Experience Eumundi.<br />\n<br />\n<u><em>*Registration essential by 5pm Thursday 23 April 2020 to receive &#39\;join meeting&#39\; notification and access code.</em></u><br />\n&nbsp\;
LOCATION:
UID:e.3473.1747
SEQUENCE:3
DTSTAMP:20260421T142621Z
URL:https://business.eumundichamber.com.au/events/details/eumundi-chamber-businessonline-april-2020-1747
END:VEVENT

END:VCALENDAR
