BEGIN:VCALENDAR
VERSION:2.0
PRODID:-//ChamberMaster//Event Calendar 2.0//EN
METHOD:PUBLISH
X-PUBLISHED-TTL:P3D
REFRESH-INTERVAL:P3D
CALSCALE:GREGORIAN
BEGIN:VEVENT
DTSTART:20230727T210000Z
DTEND:20230727T223000Z
X-MICROSOFT-CDO-ALLDAYEVENT:FALSE
SUMMARY:Eumundi Chamber Coffee Connect July 2023
DESCRIPTION:Join us\, with host Alfresco's Garden Cafe for our July networking event for all the usual updates.\n\n \n\nBe sure to support local and buy a coffee and something tasty on arrival. We thoroughly recommend Alfresco's coffee blend along with delicious brekky temptations - you won't be disappointed!\n\n \n\nDennis and the team look forward to welcoming you to their delightful space highly regarded for "modern Australian fusion and classic cafe favourites with a mediterranean twist"\, which has quickly become a favourite with locals and visitors alike!\n\n \n\nRSVP's are essential BEFORE 2pm Thursday 27 July 2023.\n\n\n\nRegister online via the link to avoid disappointment.
X-ALT-DESC;FMTTYPE=text/html:<p class="p1" style="margin: 0px\; font-variant-numeric: normal\; font-variant-east-asian: normal\; font-variant-alternates: normal\; font-kerning: auto\; font-optical-sizing: auto\; font-feature-settings: normal\; font-variation-settings: normal\; font-stretch: normal\; font-size: 14px\; line-height: normal\; font-family: Helvetica\; color: rgb(0\, 0\, 0)\; -webkit-text-stroke-color: rgb(51\, 51\, 51)\; background-color: rgba(0\, 0\, 0\, 0)\;"><span class="s1" style="font-kerning: none\;">Join us\, with host <strong>Alfresco&#39\;s Garden Cafe</strong> for our July networking event&nbsp\;for&nbsp\;all the usual updates.</span></p>\n\n<p class="p2" style="margin: 0px\; font-variant-numeric: normal\; font-variant-east-asian: normal\; font-variant-alternates: normal\; font-kerning: auto\; font-optical-sizing: auto\; font-feature-settings: normal\; font-variation-settings: normal\; font-stretch: normal\; font-size: 14px\; line-height: normal\; font-family: Helvetica\; color: rgb(0\, 0\, 0)\; -webkit-text-stroke-color: rgb(51\, 51\, 51)\; background-color: rgba(0\, 0\, 0\, 0)\; min-height: 17px\;">&nbsp\;</p>\n\n<p class="p1" style="margin: 0px\; font-variant-numeric: normal\; font-variant-east-asian: normal\; font-variant-alternates: normal\; font-kerning: auto\; font-optical-sizing: auto\; font-feature-settings: normal\; font-variation-settings: normal\; font-stretch: normal\; font-size: 14px\; line-height: normal\; font-family: Helvetica\; color: rgb(0\, 0\, 0)\; -webkit-text-stroke-color: rgb(51\, 51\, 51)\; background-color: rgba(0\, 0\, 0\, 0)\;"><span class="s1" style="font-kerning: none\;">Be sure to&nbsp\;support local and&nbsp\;buy a coffee and something tasty on arrival. We thoroughly recommend Alfresco&#39\;s coffee blend along with&nbsp\;delicious brekky temptations - you won&#39\;t be disappointed!</span></p>\n\n<p class="p2" style="margin: 0px\; font-variant-numeric: normal\; font-variant-east-asian: normal\; font-variant-alternates: normal\; font-kerning: auto\; font-optical-sizing: auto\; font-feature-settings: normal\; font-variation-settings: normal\; font-stretch: normal\; font-size: 14px\; line-height: normal\; font-family: Helvetica\; color: rgb(0\, 0\, 0)\; -webkit-text-stroke-color: rgb(51\, 51\, 51)\; background-color: rgba(0\, 0\, 0\, 0)\; min-height: 17px\;">&nbsp\;</p>\n\n<p class="p1" style="margin: 0px\; font-variant-numeric: normal\; font-variant-east-asian: normal\; font-variant-alternates: normal\; font-kerning: auto\; font-optical-sizing: auto\; font-feature-settings: normal\; font-variation-settings: normal\; font-stretch: normal\; font-size: 14px\; line-height: normal\; font-family: Helvetica\; color: rgb(0\, 0\, 0)\; -webkit-text-stroke-color: rgb(51\, 51\, 51)\; background-color: rgba(0\, 0\, 0\, 0)\;"><span class="s1" style="font-kerning: none\;">Dennis and the team look forward to welcoming you to&nbsp\;their&nbsp\;delightful space </span><span style="color: rgb(0\, 0\, 0)\; font-family: Helvetica\; font-size: 14px\; -webkit-text-stroke-color: rgb(51\, 51\, 51)\;">highly regarded for&nbsp\;<em>&quot\;modern Australian fusion and classic cafe favourites with a mediterranean twist&quot\;</em></span><span class="s1" style="font-kerning: none\;">\, which has quickly become a favourite with locals and visitors alike!</span></p>\n\n<p class="p2" style="margin: 0px\; font-variant-numeric: normal\; font-variant-east-asian: normal\; font-variant-alternates: normal\; font-kerning: auto\; font-optical-sizing: auto\; font-feature-settings: normal\; font-variation-settings: normal\; font-stretch: normal\; font-size: 14px\; line-height: normal\; font-family: Helvetica\; color: rgb(0\, 0\, 0)\; -webkit-text-stroke-color: rgb(51\, 51\, 51)\; background-color: rgba(0\, 0\, 0\, 0)\; min-height: 17px\;">&nbsp\;</p>\n\n<p class="p1" style="margin: 0px\; font-variant-numeric: normal\; font-variant-east-asian: normal\; font-variant-alternates: normal\; font-kerning: auto\; font-optical-sizing: auto\; font-feature-settings: normal\; font-variation-settings: normal\; font-stretch: normal\; font-size: 14px\; line-height: normal\; font-family: Helvetica\; color: rgb(0\, 0\, 0)\; -webkit-text-stroke-color: rgb(51\, 51\, 51)\; background-color: rgba(0\, 0\, 0\, 0)\;"><span class="s1" style="font-kerning: none\;">RSVP&#39\;s are essential BEFORE 2pm Thursday 27 July 2023.<br />\n<br />\nRegister online via the link to avoid disappointment. </span></p>\n
LOCATION:1381 Eumundi-Noosa Road EUMUNDI QLD 4562
UID:e.3473.2665
SEQUENCE:3
DTSTAMP:20260422T045814Z
URL:https://business.eumundichamber.com.au/events/details/eumundi-chamber-coffee-connect-july-2023-2665
END:VEVENT

END:VCALENDAR
