BEGIN:VCALENDAR
VERSION:2.0
PRODID:-//ChamberMaster//Event Calendar 2.0//EN
METHOD:PUBLISH
X-PUBLISHED-TTL:P3D
REFRESH-INTERVAL:P3D
CALSCALE:GREGORIAN
BEGIN:VEVENT
DTSTART:20200319T210000Z
DTEND:20200319T223000Z
X-MICROSOFT-CDO-ALLDAYEVENT:FALSE
SUMMARY:Eumundi Chamber of Commerce Business Breakfast March 2020
DESCRIPTION:Eumundi Chamber of Commerce Business Breakfast\n\n\n\nWe invite members and interested businesses throughout 4562 and surrounds to join us for networking and business updates\, with a tasty breakfast from local produce by Hugh\, Tom\, Gabi and the team at The Store Eumundi. \n\n\n\nSpecial Guest Speaker: Steve Enticknap\, Business Mentoring Noosa\n\nSteve\, a Eumundi local\, who along with 20 active mentors across the region\, is passionate about supporting and assisting local business through mentoring to thrive. Steve will also be joined by other mentors in their team. So don't miss this opportunity to learn more about the benefits of mentoring to your business and connect with a local organisation that can help you achieve your goals and aspirations and get where you want to be!\n\nTopics:\nMember's Spotlight: TBA\n\nWe also have our regular topics\, including:\n\n\n	Welcome New Chamber Members\n	Experience Eumundi Update with Bamik Baker\, Marketing Manager\n	VSC and Tourism Noosa Updates\n	Chamber Business\n	Members News.. and much more\n\n\nWe encourage you to invite guests and potential new members\, let us know of any dietary requirements\,\n\nand inform us if you'd like to introduce or showcase your business in the Members Spotlight segment with RSVP by 5pm Wednesday 18 March\, 2020. \n\n\n\nAll businesses and guests are most welcome...
X-ALT-DESC;FMTTYPE=text/html:<p><strong>Eumundi Chamber of Commerce Business Breakfast</strong><br />\n<br />\nWe invite members and interested businesses throughout 4562 and surrounds to join us for networking and business updates\, with a tasty breakfast from local produce&nbsp\;by Hugh\, Tom\, Gabi and the team at&nbsp\;The Store Eumundi.&nbsp\;<br />\n<br />\n<strong>Special Guest Speaker: Steve Enticknap\,&nbsp\;Business Mentoring Noosa</strong><br />\nSteve\, a Eumundi local\, who&nbsp\;along with 20 active mentors across the region\, is passionate about supporting and assisting local business through mentoring to thrive. Steve will also be joined by other mentors in their team. So don&#39\;t miss this opportunity to learn more about the benefits of mentoring to your business and connect with a local organisation that can help you <em>achieve your goals and aspirations and get where you want to be!</em></p>\n\n<p><u>Topics:</u></p>\n<strong>Member&#39\;s Spotlight: TBA</strong>\n\n<p>We also have our regular topics\, including:</p>\n\n<ul>\n	<li>Welcome&nbsp\;New Chamber Members</li>\n	<li>Experience Eumundi Update with Bamik Baker\, Marketing Manager</li>\n	<li>VSC and Tourism Noosa Updates</li>\n	<li>Chamber Business</li>\n	<li>Members&nbsp\;News.. and much more</li>\n</ul>\n\n<p>We encourage you to invite guests and potential new members\,&nbsp\;let us know of any dietary requirements\,<br />\nand inform us if you&#39\;d like to introduce or showcase your business in the Members Spotlight segment with&nbsp\;<strong>RSVP by 5pm Wednesday 18 March\, 2020.&nbsp\;<br />\n<br />\n<em>All businesses and guests are most welcome...&nbsp\;</em></strong></p>\n
LOCATION:97A Memorial Drive Eumundi Qld 4562
UID:e.3473.1738
SEQUENCE:3
DTSTAMP:20260421T155457Z
URL:https://business.eumundichamber.com.au/events/details/eumundi-chamber-of-commerce-business-breakfast-march-2020-1738
END:VEVENT

END:VCALENDAR
