BEGIN:VCALENDAR
VERSION:2.0
PRODID:-//ChamberMaster//Event Calendar 2.0//EN
METHOD:PUBLISH
X-PUBLISHED-TTL:P3D
REFRESH-INTERVAL:P3D
CALSCALE:GREGORIAN
BEGIN:VEVENT
DTSTART:20191205T210000Z
DTEND:20191205T223000Z
X-MICROSOFT-CDO-ALLDAYEVENT:FALSE
SUMMARY:Eumundi Chamber of Commerce December Breakfast
DESCRIPTION:Eumundi Chamber of Commerce Business Breakfast\n\n\n\nWe invite members and interested businesses to join us for a jam packed breakfast hosted by joint winners of ECC's Business of Year Award\, The Store Eumundi. \n\n\n\nSpecial Guest #1: Cr Greg Rogerson\n\nDivision 10 Councillor\, Sunshine Coast Council\n\n\n\nTopics:\n\n	Car Parking Inspectors Market Days\n	Eumundi Update - Street Scaping and Placemaking\n	plus more... \n\nSpecial Guest #2: Bamik Baker\n\nExperience Eumundi Marketing Manager\n\n\n\nTopics:\n\n\n	EE Marketing Plan Roll Out and\n	Chamber Member Opportunities\n\nMember's Spotlight\n\n\n	Alain Bouvier Photography\n\n\nWe also have our regular business topics to cover\, including:\n\n\n	Welcome to New Members\n	VSC and Tourism Noosa Updates\n	Chamber Business Update\n	Members Chat and News\n\n\nWe encourage you to invite guests and potential new members\, let us know of any dietary requirements\,\n\nand inform us if you'd like to introduce or showcase your business in the Members Spotlight segment with RSVP by 5pm Wednesday 4 December\, 2019.
X-ALT-DESC;FMTTYPE=text/html:<strong>Eumundi Chamber of Commerce Business Breakfast</strong><br />\n<br />\nWe invite members and interested businesses to join us for a jam packed breakfast hosted by joint winners of ECC&#39\;s Business of Year Award\, The Store Eumundi.&nbsp\;<br />\n<br />\n<strong>Special Guest #1: Cr Greg Rogerson</strong><br />\nDivision 10 Councillor\, Sunshine Coast Council<br />\n<br />\n<u>Topics:</u>\n<ul>\n	<li>Car Parking Inspectors Market Days</li>\n	<li>Eumundi Update - Street Scaping and Placemaking</li>\n	<li>plus more...&nbsp\;</li>\n</ul>\n<strong>Special Guest #2: Bamik Baker</strong><br />\nExperience Eumundi Marketing Manager<br />\n<br />\n<u>Topics:</u>\n\n<ul>\n	<li>EE Marketing Plan Roll Out and</li>\n	<li>Chamber Member Opportunities</li>\n</ul>\n<strong>Member&#39\;s Spotlight</strong>\n\n<ul>\n	<li>Alain Bouvier Photography</li>\n</ul>\n\n<p>We also have our regular business topics to cover\, including:</p>\n\n<ul>\n	<li>Welcome to New Members</li>\n	<li>VSC and Tourism Noosa Updates</li>\n	<li>Chamber Business Update</li>\n	<li>Members Chat and News</li>\n</ul>\n\n<p>We encourage you to invite guests and potential new members\,&nbsp\;let us know of any dietary requirements\,<br />\nand inform us if you&#39\;d like to introduce or showcase your business in the Members Spotlight segment with <strong>RSVP by 5pm Wednesday 4 December\, 2019.&nbsp\;</strong><br />\n&nbsp\;</p>\n
LOCATION:The Store Eumundi 97A Memorial Drive Eumundi
UID:e.3473.1724
SEQUENCE:3
DTSTAMP:20260421T201629Z
URL:https://business.eumundichamber.com.au/events/details/eumundi-chamber-of-commerce-december-breakfast-1724
END:VEVENT

END:VCALENDAR
