BEGIN:VCALENDAR
VERSION:2.0
PRODID:-//ChamberMaster//Event Calendar 2.0//EN
METHOD:PUBLISH
X-PUBLISHED-TTL:P3D
REFRESH-INTERVAL:P3D
CALSCALE:GREGORIAN
BEGIN:VEVENT
DTSTART:20200619T080000Z
DTEND:20200619T120000Z
X-MICROSOFT-CDO-ALLDAYEVENT:FALSE
SUMMARY:Eumundi Drive-in: Dirty Dancing + Strickly Ballroom
DESCRIPTION:Hosted by Starry Nights Outdoor Movies and The Imperial Hotel Eumundi... \n\n\n\nCar numbers will be limited   with vehicles to be spaced at least two metres apart to ensure appropriate physical distancing.\n\n\n\nSound is transmitted via FM to car radios.\n\n\n\nAt this stage\, we won't be offering meals on site\, but rather encouraging guests to bring a 'car picnic' or pre-order from The Imperial Hotel Eumundi. Pizzas and drive-ins go hand in hand\, so think about ordering from the hotel (Ph: 5442 8811) and then picking it up on your way to the drive-in. \n\n\n\nSocial distancing should be observed at all times\, with guests asked to remain in their cars unless absolutely necessary. Bathrooms on site will be monitored\, and regularly cleaned and sanitised. Guests are also asked to take home what they bring as there will be no rubbish bins on site.\n\n\n\nMore about the movies:\n\n\n\nDIRTY DANCING (M)\n\n\n\nSet to the pulsating rock n roll songs of the early '60s\, DIRTY DANCING is a romantic story about an awkward yet endearing 17 year old girl Baby (Jennifer Grey) who slips into womanhood during an eye-opening family vacation at a Catskill lodge in the summer of 1963. Caught up in the music and rhythm of the time\, she falls in love with a charismatic working-class dance instructor Johnny Castle (Patrick Swayze) who introduces her to the excitement of 'Dirty Dancing'.\n\n\n\nSTRICTLY BALLROOM (PG)\n\n\n\nScott Hastings (Paul Mercurio) is a champion ballroom dancer\, but much to the chagrin of the Australian ballroom dance community\, Scott believes in dancing "his own steps". Fran (Tara Morice) is a less experienced dancer and a bit of an ugly duckly who has the audacity to ask to be Scott's partner after his unorthodox style causes his regular partner to dance out of his life. Together\, these two misfits try to win the Australian Pan Pacific Championships and show the Ballroom Confederation that they are wrong when they say\, "there are no new steps!"
X-ALT-DESC;FMTTYPE=text/html:<span style="color: rgb(29\, 33\, 41)\; font-family: &quot\;Helvetica Neue&quot\;\, Helvetica\, Arial\, sans-serif\; font-size: 14px\; white-space: pre-wrap\;">Hosted by Starry Nights Outdoor Movies and The </span><a href="https://www.facebook.com/ImperialHotelEumundi/" style="color: rgb(56\, 88\, 152)\; cursor: pointer\; text-decoration-line: none\; font-family: &quot\;Helvetica Neue&quot\;\, Helvetica\, Arial\, sans-serif\; font-size: 14px\; white-space: pre-wrap\;" target="_blank">Imperial Hotel Eumundi</a><font color="#1d2129" face="Helvetica Neue\, Helvetica\, Arial\, sans-serif"><span style="font-size: 14px\; white-space: pre-wrap\;">... </span></font><br style="color: rgb(29\, 33\, 41)\; font-family: &quot\;Helvetica Neue&quot\;\, Helvetica\, Arial\, sans-serif\; font-size: 14px\; white-space: pre-wrap\;" />\n<br style="color: rgb(29\, 33\, 41)\; font-family: &quot\;Helvetica Neue&quot\;\, Helvetica\, Arial\, sans-serif\; font-size: 14px\; white-space: pre-wrap\;" />\n<span style="color: rgb(29\, 33\, 41)\; font-family: &quot\;Helvetica Neue&quot\;\, Helvetica\, Arial\, sans-serif\; font-size: 14px\; white-space: pre-wrap\;">Car numbers will be limited &ndash\; with vehicles to be spaced at least two metres apart to ensure appropriate physical distancing.</span><br style="color: rgb(29\, 33\, 41)\; font-family: &quot\;Helvetica Neue&quot\;\, Helvetica\, Arial\, sans-serif\; font-size: 14px\; white-space: pre-wrap\;" />\n<br style="color: rgb(29\, 33\, 41)\; font-family: &quot\;Helvetica Neue&quot\;\, Helvetica\, Arial\, sans-serif\; font-size: 14px\; white-space: pre-wrap\;" />\n<span style="color: rgb(29\, 33\, 41)\; font-family: &quot\;Helvetica Neue&quot\;\, Helvetica\, Arial\, sans-serif\; font-size: 14px\; white-space: pre-wrap\;">Sound is transmitted via FM to car radios.</span><br style="color: rgb(29\, 33\, 41)\; font-family: &quot\;Helvetica Neue&quot\;\, Helvetica\, Arial\, sans-serif\; font-size: 14px\; white-space: pre-wrap\;" />\n<br style="color: rgb(29\, 33\, 41)\; font-family: &quot\;Helvetica Neue&quot\;\, Helvetica\, Arial\, sans-serif\; font-size: 14px\; white-space: pre-wrap\;" />\n<span style="color: rgb(29\, 33\, 41)\; font-family: &quot\;Helvetica Neue&quot\;\, Helvetica\, Arial\, sans-serif\; font-size: 14px\; white-space: pre-wrap\;">At this stage\, we won&rsquo\;t be offering meals on site\, but rather encouraging guests to bring a &#39\;car picnic&#39\; or pre-order from The Imperial Hotel Eumundi. Pizzas and drive-ins go hand in hand\, so think about ordering from the hotel (Ph: 5442 8811) and then picking it up on your way to the drive-in. </span><br style="color: rgb(29\, 33\, 41)\; font-family: &quot\;Helvetica Neue&quot\;\, Helvetica\, Arial\, sans-serif\; font-size: 14px\; white-space: pre-wrap\;" />\n<br style="color: rgb(29\, 33\, 41)\; font-family: &quot\;Helvetica Neue&quot\;\, Helvetica\, Arial\, sans-serif\; font-size: 14px\; white-space: pre-wrap\;" />\n<span style="color: rgb(29\, 33\, 41)\; font-family: &quot\;Helvetica Neue&quot\;\, Helvetica\, Arial\, sans-serif\; font-size: 14px\; white-space: pre-wrap\;">Social distancing should be observed at all times\, with guests asked to remain in their cars unless absolutely necessary. Bathrooms on site will be monitored\, and regularly cleaned and sanitised. Guests are also asked to take home what they bring as there will be no rubbish bins on site.</span><br style="color: rgb(29\, 33\, 41)\; font-family: &quot\;Helvetica Neue&quot\;\, Helvetica\, Arial\, sans-serif\; font-size: 14px\; white-space: pre-wrap\;" />\n<br style="color: rgb(29\, 33\, 41)\; font-family: &quot\;Helvetica Neue&quot\;\, Helvetica\, Arial\, sans-serif\; font-size: 14px\; white-space: pre-wrap\;" />\n<span style="color: rgb(29\, 33\, 41)\; font-family: &quot\;Helvetica Neue&quot\;\, Helvetica\, Arial\, sans-serif\; font-size: 14px\; white-space: pre-wrap\;">More about the movies:</span><br style="color: rgb(29\, 33\, 41)\; font-family: &quot\;Helvetica Neue&quot\;\, Helvetica\, Arial\, sans-serif\; font-size: 14px\; white-space: pre-wrap\;" />\n<br style="color: rgb(29\, 33\, 41)\; font-family: &quot\;Helvetica Neue&quot\;\, Helvetica\, Arial\, sans-serif\; font-size: 14px\; white-space: pre-wrap\;" />\n<span style="color: rgb(29\, 33\, 41)\; font-family: &quot\;Helvetica Neue&quot\;\, Helvetica\, Arial\, sans-serif\; font-size: 14px\; white-space: pre-wrap\;">DIRTY DANCING (M)</span><br style="color: rgb(29\, 33\, 41)\; font-family: &quot\;Helvetica Neue&quot\;\, Helvetica\, Arial\, sans-serif\; font-size: 14px\; white-space: pre-wrap\;" />\n<br style="color: rgb(29\, 33\, 41)\; font-family: &quot\;Helvetica Neue&quot\;\, Helvetica\, Arial\, sans-serif\; font-size: 14px\; white-space: pre-wrap\;" />\n<span style="color: rgb(29\, 33\, 41)\; font-family: &quot\;Helvetica Neue&quot\;\, Helvetica\, Arial\, sans-serif\; font-size: 14px\; white-space: pre-wrap\;">Set to the pulsating rock n roll songs of the early &#39\;60s\, DIRTY DANCING is a romantic story about an awkward yet endearing 17 year old girl Baby (Jennifer Grey) who slips into womanhood during an eye-opening family vacation at a Catskill lodge in the summer of 1963. Caught up in the music and rhythm of the time\, she falls in love with a charismatic working-class dance instructor Johnny Castle (Patrick Swayze) who introduces her to the excitement of &#39\;Dirty Dancing&#39\;.</span><br style="color: rgb(29\, 33\, 41)\; font-family: &quot\;Helvetica Neue&quot\;\, Helvetica\, Arial\, sans-serif\; font-size: 14px\; white-space: pre-wrap\;" />\n<br style="color: rgb(29\, 33\, 41)\; font-family: &quot\;Helvetica Neue&quot\;\, Helvetica\, Arial\, sans-serif\; font-size: 14px\; white-space: pre-wrap\;" />\n<span style="color: rgb(29\, 33\, 41)\; font-family: &quot\;Helvetica Neue&quot\;\, Helvetica\, Arial\, sans-serif\; font-size: 14px\; white-space: pre-wrap\;">STRICTLY BALLROOM (PG)</span><br style="color: rgb(29\, 33\, 41)\; font-family: &quot\;Helvetica Neue&quot\;\, Helvetica\, Arial\, sans-serif\; font-size: 14px\; white-space: pre-wrap\;" />\n<br style="color: rgb(29\, 33\, 41)\; font-family: &quot\;Helvetica Neue&quot\;\, Helvetica\, Arial\, sans-serif\; font-size: 14px\; white-space: pre-wrap\;" />\n<span style="color: rgb(29\, 33\, 41)\; font-family: &quot\;Helvetica Neue&quot\;\, Helvetica\, Arial\, sans-serif\; font-size: 14px\; white-space: pre-wrap\;">Scott Hastings (Paul Mercurio) is a champion ballroom dancer\, but much to the chagrin of the Australian ballroom dance community\, Scott believes in dancing &quot\;his own steps&quot\;. Fran (Tara Morice) is a less experienced dancer and a bit of an ugly duckly who has the audacity to ask to be Scott&#39\;s partner after his unorthodox style causes his regular partner to dance out of his life. Together\, these two misfits try to win the Australian Pan Pacific Championships and show the Ballroom Confederation that they are wrong when they say\, &quot\;there are no new steps!&quot\;</span>
LOCATION:Venue: Eumundi Showgrounds\, Black Stump Rd - off Memorial Drive\, Eumundi. Near northern Eumundi entrance to Bruce Hwy.
UID:e.3473.1773
SEQUENCE:3
DTSTAMP:20260421T112713Z
URL:https://business.eumundichamber.com.au/events/details/eumundi-drive-in-dirty-dancing-strickly-ballroom-1773
END:VEVENT

END:VCALENDAR
