BEGIN:VCALENDAR
VERSION:2.0
PRODID:-//ChamberMaster//Event Calendar 2.0//EN
METHOD:PUBLISH
X-PUBLISHED-TTL:P3D
REFRESH-INTERVAL:P3D
CALSCALE:GREGORIAN
BEGIN:VEVENT
DTSTART:20230630T220000Z
DTEND:20230701T040000Z
X-MICROSOFT-CDO-ALLDAYEVENT:FALSE
SUMMARY:Eumundi Markets
DESCRIPTION:World famous artisan market with more than 600 stalls central to town. Choose from multiple market areas\, ie the Original Eumundi Market\, Parkside Markets\, Lonergan Lane Market\, and the Terraces\, open Wednesdays and Saturday\, with the Eumundi Square precinct open Fridays as well.
X-ALT-DESC;FMTTYPE=text/html:World famous artisan market with more than 600 stalls central to town. Choose from multiple market areas\, ie the Original Eumundi Market\, Parkside Markets\, Lonergan Lane Market\, and the Terraces\, open Wednesdays and Saturday\, with the Eumundi Square precinct open Fridays as well.&nbsp\;
LOCATION:
UID:e.3473.2663
SEQUENCE:3
DTSTAMP:20260422T045630Z
URL:https://business.eumundichamber.com.au/events/details/eumundi-markets-07-01-2023-2663
END:VEVENT

END:VCALENDAR
