BEGIN:VCALENDAR
VERSION:2.0
PRODID:-//ChamberMaster//Event Calendar 2.0//EN
METHOD:PUBLISH
X-PUBLISHED-TTL:P3D
REFRESH-INTERVAL:P3D
CALSCALE:GREGORIAN
BEGIN:VEVENT
DTSTART:20191027T230000Z
DTEND:20191028T000000Z
X-MICROSOFT-CDO-ALLDAYEVENT:FALSE
SUMMARY:Core and Cardio with B Active Personal Training and Group Fitness
DESCRIPTION:
X-ALT-DESC;FMTTYPE=text/html:
LOCATION:Eumundi Amphitheatre 67 Memorial Drive EUMUNDI QLD 4562
UID:e.3473.268
SEQUENCE:3
DTSTAMP:20260421T231249Z
URL:https://business.eumundichamber.com.au/events/details/group-fitness-training-core-and-cardio-10-28-2019-268
END:VEVENT

END:VCALENDAR
