BEGIN:VCALENDAR
VERSION:2.0
PRODID:-//ChamberMaster//Event Calendar 2.0//EN
METHOD:PUBLISH
X-PUBLISHED-TTL:P3D
REFRESH-INTERVAL:P3D
CALSCALE:GREGORIAN
BEGIN:VEVENT
DTSTART:20190915T200000Z
DTEND:20190915T210000Z
X-MICROSOFT-CDO-ALLDAYEVENT:FALSE
SUMMARY:Kickstarter Class with B Active Personal Training and Group Fitness
DESCRIPTION:
X-ALT-DESC;FMTTYPE=text/html:
LOCATION:Eumundi Amphitheatre 67 Memorial Drive EUMUNDI QLD 4562
UID:e.3473.62
SEQUENCE:3
DTSTAMP:20260422T002301Z
URL:https://business.eumundichamber.com.au/events/details/kickstarter-class-with-b-active-personal-training-and-group-fitness-09-16-2019-62
END:VEVENT

END:VCALENDAR
