BEGIN:VCALENDAR
VERSION:2.0
PRODID:-//ChamberMaster//Event Calendar 2.0//EN
METHOD:PUBLISH
X-PUBLISHED-TTL:P3D
REFRESH-INTERVAL:P3D
CALSCALE:GREGORIAN
BEGIN:VEVENT
DTSTART:20190320T210000Z
DTEND:20190320T223000Z
X-MICROSOFT-CDO-ALLDAYEVENT:FALSE
SUMMARY:March Breakfast
DESCRIPTION:Chamber's New Website progress - Reveal of Chamber's new Logo - ECCO Ltd Experience Eumundi Update - VSC and Tourism Noosa Update - Chamber business update
X-ALT-DESC;FMTTYPE=text/html:<span style="color: rgb(49\, 52\, 55)\; font-family: MarkWeb\, Helvetica\, sans-serif\; font-size: 16px\; font-style: normal\; font-variant-ligatures: normal\; font-variant-caps: normal\; font-weight: 400\; letter-spacing: normal\; orphans: 2\; text-align: start\; text-indent: 0px\; text-transform: none\; white-space: normal\; widows: 2\; word-spacing: 0px\; -webkit-text-stroke-width: 0px\; background-color: rgb(255\, 255\, 255)\; text-decoration-style: initial\; text-decoration-color: initial\; display: inline !important\; float: none\;">Chamber&#39\;s New Website progress - Reveal of Chamber&#39\;s new Logo - ECCO Ltd Experience Eumundi Update - VSC and Tourism Noosa Update - Chamber business update</span>
LOCATION:The Store Eumundi Memorial Drive
UID:e.3473.2
SEQUENCE:3
DTSTAMP:20260422T082801Z
URL:https://business.eumundichamber.com.au/events/details/march-breakfast-2
END:VEVENT

END:VCALENDAR
