BEGIN:VCALENDAR
VERSION:2.0
PRODID:-//ChamberMaster//Event Calendar 2.0//EN
METHOD:PUBLISH
X-PUBLISHED-TTL:P3D
REFRESH-INTERVAL:P3D
CALSCALE:GREGORIAN
BEGIN:VEVENT
DTSTART:20190430T073000Z
DTEND:20190430T090000Z
X-MICROSOFT-CDO-ALLDAYEVENT:FALSE
SUMMARY:Meet the Candidates
DESCRIPTION:Eumundi Chamber of Commerce invites members\, guests and interested business people to Meet the Candidates in the Federal Seat of Fairfax for a Q&A on business and economic policies.\n\n\n\nIf you have a business or economics related question you'd like answered before you vote on May 18\, then this is your opportunity to hear directly from Ted O'Brien (LNP)\, Julie McGlone (ALP)\, Paul Henselin (One Nation) and Sue Etheridge (The Greens).\n\n\n\nEmail questions with RSVP to vice.president@eumundichamber.biz by 4pm Saturday 27 April 2019.\n\n\n\nNote: Candidate responses will be managed to time\, therefore it may not be possible to answer all questions.\n\n\n\nJoe's Bar & Grill will be open for dinner service\, with drinks available at the bar.\n\n\n\nThis is a FREE EVENT. Seating is limited with RSVP preferred by 5pm 26th April.
X-ALT-DESC;FMTTYPE=text/html:Eumundi Chamber of Commerce invites members\, guests and interested business people to Meet the Candidates in the Federal Seat of Fairfax for a Q&amp\;A on business and economic policies.<br />\n<br />\nIf you&nbsp\;have a business or economics related question you&#39\;d like answered before you vote on May 18\, then this is your opportunity to hear directly from Ted O&#39\;Brien (LNP)\, Julie McGlone (ALP)\, Paul Henselin (One Nation) and Sue Etheridge (The Greens).<br />\n<br />\n<strong>Email questions with RSVP to <a href="mailto:vice.president@eumundichamber.biz?subject=RSVP%20Meet%20the%20Candidates%2030th%20April%202019">vice.president@eumundichamber.biz</a> by 4pm Saturday 27 April 2019.</strong><br />\n<br />\nNote: Candidate responses will be managed to time\, therefore it may not be possible to answer all questions.<br />\n<br />\nJoe&#39\;s Bar &amp\; Grill will be open for dinner service\, with drinks available at the bar.<br />\n<br />\nThis is a <strong>FREE EVENT.</strong> Seating is limited with <strong>RSVP preferred by 5pm 26th April.</strong><br />\n<br />\n&nbsp\;
LOCATION:Joe's Bar & Grill Joe's Waterhole Hotel 85 Memorial Drive EUMUNDI QLD 4562
UID:e.3473.5
SEQUENCE:3
DTSTAMP:20260422T071400Z
URL:https://business.eumundichamber.com.au/events/details/meet-the-candidates-5
END:VEVENT

END:VCALENDAR
