BEGIN:VCALENDAR
VERSION:2.0
PRODID:-//ChamberMaster//Event Calendar 2.0//EN
METHOD:PUBLISH
X-PUBLISHED-TTL:P3D
REFRESH-INTERVAL:P3D
CALSCALE:GREGORIAN
BEGIN:VEVENT
DTSTART:20200312T080000Z
DTEND:20200312T100000Z
X-MICROSOFT-CDO-ALLDAYEVENT:FALSE
SUMMARY:Meet the Division 10 Candidates
DESCRIPTION:Coordinated and hosted by Eumundi & District Community Association Inc at Joe's Waterhole Bar and Grill.\n\n\n\nCandidates will have the opportunity to speak to voters at the meeting as well as answer as many questions as possible from pre-submissions emailed to the moderator prior to the event.\n\n\n\nQuestions should be email to eko.consulting@icloud.com by no later than 5 March 2020.
X-ALT-DESC;FMTTYPE=text/html:Coordinated and hosted by Eumundi &amp\; District Community Association Inc at Joe&#39\;s Waterhole Bar and Grill.<br />\n<br />\nCandidates will have the opportunity to speak to voters at the meeting as well as answer as many questions as possible from pre-submissions emailed to the moderator prior to the event.<br />\n<br />\nQuestions should be email to eko.consulting@icloud.com by no later than 5 March 2020.
LOCATION:Joe's Waterhole Bar and Grill 85 Memorial Drive\, Eumundi
UID:e.3473.1739
SEQUENCE:3
DTSTAMP:20260421T155312Z
URL:https://business.eumundichamber.com.au/events/details/meet-the-division-10-candidates-1739
END:VEVENT

END:VCALENDAR
