BEGIN:VCALENDAR
VERSION:2.0
PRODID:-//ChamberMaster//Event Calendar 2.0//EN
METHOD:PUBLISH
X-PUBLISHED-TTL:P3D
REFRESH-INTERVAL:P3D
CALSCALE:GREGORIAN
BEGIN:VEVENT
DTSTART:20200328T093000Z
DTEND:20200328T123000Z
X-MICROSOFT-CDO-ALLDAYEVENT:FALSE
SUMMARY:MITCH KING at The Imperial Hotel Eumundi
DESCRIPTION:Put Saturday 28 March in your diary for what will be mighty fine gig in The Bunker at The Imperial Hotel Eumundi when singer-songwriter MITCH KING takes to the stage\, supported by songbird ANDREA KIRWIN.\n\n\n\nMITCH KING\n\nMulti-instrumentalist Mitch King is well known for his unique and dynamic performances which showcase his ability to simultaneously blend vocals with electric and acoustic guitars\, harmonica\, kick drum and tambourine to create his unique Australian folky blues n roots sound.\n\nBorn and raised on the Gold Coast\, Mitch King has always loved music - as far back as he can remember. He spent many a road trip listening to artists such as AC/DC\, Bob Dylan\, John Mayer\, Neil Young and Coldplay\, while traveling on family vacations\, and first started playing guitar at 14. Growing up he didn't watch much TV\, so he'd spend hours playing and listening to music in his bedroom. He connected with John Mayer's 'Continuum'\, which sparked his fascination for electric guitar\, and led him to discover Jimmy Hendrix and Santana.\n\nIt was Australian folk\, rock and blues singer Kim Churchill\, who Mitch saw perform at Woodford Folk Festival\, that inspired Mitch to to embrace his talent. \n\nWhen he turned 15\, Mitch began busking most weekends in his hometown of Mt Tambourine. With an acoustic guitar in his hand\, and playing the only four songs he knew on repeat\, he impressed the passing grannies enough to earn enough money to buy his first car and build up his music gear arsenal. \n\nIn 2014\, Mitch independently released his first album 'A Life Under The Sun'. The single 'Coming Back' was picked up by the US football team the Green Bay Packers\, who played his song at their season opening match\, and shared it across their social media. \n\nDuring this time\, Mitch made the bold decision to move into a campervan\, to travel around Australia performing at festivals and venues across the country. He entered the Tamworth Country Music Festival Busking Competition\, where he performed to 5\,000 people and won the competition. Then only a few weeks later\, he was crowned "Hottest New Act" at St Kilda Festival. \n\nIn 2016\, Mitch released an EP 'Southerly Change'. It went straight to the top of the blues chart\, where it remained for 10 days straight. \n\nMore recently\, Mitch has released the singles 'Burning' (more than 2.5 million streams) and 'Believe'. \n\nRecent artist supports include Tones And I\, America The Band\, and Supertramp's Roger Hodgson. \n\nIn 2020\, Mitch is focusing on writing new music and collaborating with artists including The Temper Trap\, the Pierce Brothers\, and Diesel. \n\nTake the time to catch Mitch - and his infectious one man band performance.\n\n\n\nANDREA KIRWIN\n\nOriginally from Townsville and the eldest daughter of a Fijian preacher\, Andrea grew up singing three part harmonies with her siblings and learnt AMEB piano from an early age. Music was her constant companion throughout her education\, however it wasn't until her 21st birthday that Andrea was gifted a guitar by a good friend\, and she began writing songs after being inspired by her first live concert by Australian Artist Clare Bowditch. \n\nThe foundation of Andrea's songwriting is love\, unity\, peace and community. \n\nOver the past ten years\, Andrea has been steadily building a national following since first taking to the stage as one half of duo/band 'The Andi and George Band' in Canberra in 2007\, and as a solo artist from 2009 to now. \n\nWith a warm and disarming stage presence\, an angelic voice\, heart-filled lyrics and entertaining stories\, Andrea continues to share her beautiful songs with all who wish to listen.  \n\nAndrea founded her own independent record label Peace Run Records in 2009 and has since released three full length albums: 'From the Ground Up' (2013)\, 'The Story of Us' (2015)\, and 'A Quiet Revolution' (2017). \n\nHer music can be described as feel good\, soul-infused songs from the heart.
X-ALT-DESC;FMTTYPE=text/html:<span style="font-size:16px\;"><span style="color: rgb(29\, 33\, 41)\; font-family: &quot\;Helvetica Neue&quot\;\, Helvetica\, Arial\, sans-serif\; white-space: pre-wrap\;">Put Saturday 28 March in your diary for what will be mighty fine gig in The Bunker at The Imperial Hotel Eumundi when singer-songwriter MITCH KING takes to the stage\, supported by songbird ANDREA KIRWIN.</span><br style="color: rgb(29\, 33\, 41)\; font-family: &quot\;Helvetica Neue&quot\;\, Helvetica\, Arial\, sans-serif\; font-size: 14px\; white-space: pre-wrap\;" />\n<br style="color: rgb(29\, 33\, 41)\; font-family: &quot\;Helvetica Neue&quot\;\, Helvetica\, Arial\, sans-serif\; font-size: 14px\; white-space: pre-wrap\;" />\n<span style="color: rgb(29\, 33\, 41)\; font-family: &quot\;Helvetica Neue&quot\;\, Helvetica\, Arial\, sans-serif\; white-space: pre-wrap\;">MITCH KING</span><br style="color: rgb(29\, 33\, 41)\; font-family: &quot\;Helvetica Neue&quot\;\, Helvetica\, Arial\, sans-serif\; font-size: 14px\; white-space: pre-wrap\;" />\n<span style="color: rgb(29\, 33\, 41)\; font-family: &quot\;Helvetica Neue&quot\;\, Helvetica\, Arial\, sans-serif\; white-space: pre-wrap\;">Multi-instrumentalist Mitch King is well known for his unique and dynamic performances which showcase his ability to simultaneously blend vocals with electric and acoustic guitars\, harmonica\, kick drum and tambourine to create his unique Australian folky blues n roots sound.</span><br style="color: rgb(29\, 33\, 41)\; font-family: &quot\;Helvetica Neue&quot\;\, Helvetica\, Arial\, sans-serif\; font-size: 14px\; white-space: pre-wrap\;" />\n<span style="color: rgb(29\, 33\, 41)\; font-family: &quot\;Helvetica Neue&quot\;\, Helvetica\, Arial\, sans-serif\; white-space: pre-wrap\;">Born and raised on the Gold Coast\, Mitch King has always loved music - as far back as he can remember. He spent many a road trip listening to artists such as AC/DC\, Bob Dylan\, John Mayer\, Neil Young and Coldplay\, while traveling on family vacations\, and first started playing guitar at 14. Growing up he didn&rsquo\;t watch much TV\, so he&rsquo\;d spend hours playing and listening to music in his bedroom. He connected with John Mayer&rsquo\;s &#39\;Continuum&#39\;\, which sparked his fascination for electric guitar\, and led him to discover Jimmy Hendrix and Santana.</span><br style="color: rgb(29\, 33\, 41)\; font-family: &quot\;Helvetica Neue&quot\;\, Helvetica\, Arial\, sans-serif\; font-size: 14px\; white-space: pre-wrap\;" />\n<span style="color: rgb(29\, 33\, 41)\; font-family: &quot\;Helvetica Neue&quot\;\, Helvetica\, Arial\, sans-serif\; white-space: pre-wrap\;">It was Australian folk\, rock and blues singer Kim Churchill\, who Mitch saw perform at Woodford Folk Festival\, that inspired Mitch to to embrace his talent. </span><br style="color: rgb(29\, 33\, 41)\; font-family: &quot\;Helvetica Neue&quot\;\, Helvetica\, Arial\, sans-serif\; font-size: 14px\; white-space: pre-wrap\;" />\n<span style="color: rgb(29\, 33\, 41)\; font-family: &quot\;Helvetica Neue&quot\;\, Helvetica\, Arial\, sans-serif\; white-space: pre-wrap\;">When he turned 15\, Mitch began busking most weekends in his hometown of Mt Tambourine. With an acoustic guitar in his hand\, and playing the only four songs he knew on repeat\, he impressed the passing grannies enough to earn enough money to buy his first car and build up his music gear arsenal. </span><br style="color: rgb(29\, 33\, 41)\; font-family: &quot\;Helvetica Neue&quot\;\, Helvetica\, Arial\, sans-serif\; font-size: 14px\; white-space: pre-wrap\;" />\n<span style="color: rgb(29\, 33\, 41)\; font-family: &quot\;Helvetica Neue&quot\;\, Helvetica\, Arial\, sans-serif\; white-space: pre-wrap\;">In 2014\, Mitch independently released his first album &#39\;A Life Under The Sun&#39\;. The single &#39\;Coming Back&#39\; was picked up by the US football team the Green Bay Packers\, who played his song at their season opening match\, and shared it across their social media. </span><br style="color: rgb(29\, 33\, 41)\; font-family: &quot\;Helvetica Neue&quot\;\, Helvetica\, Arial\, sans-serif\; font-size: 14px\; white-space: pre-wrap\;" />\n<span style="color: rgb(29\, 33\, 41)\; font-family: &quot\;Helvetica Neue&quot\;\, Helvetica\, Arial\, sans-serif\; white-space: pre-wrap\;">During this time\, Mitch made the bold decision to move into a campervan\, to travel around Australia performing at festivals and venues across the country. He entered the Tamworth Country Music Festival Busking Competition\, where he performed to 5\,000 people and won the competition. Then only a few weeks later\, he was crowned &quot\;Hottest New Act&quot\; at St Kilda Festival. </span><br style="color: rgb(29\, 33\, 41)\; font-family: &quot\;Helvetica Neue&quot\;\, Helvetica\, Arial\, sans-serif\; font-size: 14px\; white-space: pre-wrap\;" />\n<span style="color: rgb(29\, 33\, 41)\; font-family: &quot\;Helvetica Neue&quot\;\, Helvetica\, Arial\, sans-serif\; white-space: pre-wrap\;">In 2016\, Mitch released an EP &#39\;Southerly Change&#39\;. It went straight to the top of the blues chart\, where it remained for 10 days straight. </span><br style="color: rgb(29\, 33\, 41)\; font-family: &quot\;Helvetica Neue&quot\;\, Helvetica\, Arial\, sans-serif\; font-size: 14px\; white-space: pre-wrap\;" />\n<span style="color: rgb(29\, 33\, 41)\; font-family: &quot\;Helvetica Neue&quot\;\, Helvetica\, Arial\, sans-serif\; white-space: pre-wrap\;">More recently\, Mitch has released the singles &#39\;Burning&#39\; (more than 2.5 million streams) and &#39\;Believe&#39\;. </span><br style="color: rgb(29\, 33\, 41)\; font-family: &quot\;Helvetica Neue&quot\;\, Helvetica\, Arial\, sans-serif\; font-size: 14px\; white-space: pre-wrap\;" />\n<span style="color: rgb(29\, 33\, 41)\; font-family: &quot\;Helvetica Neue&quot\;\, Helvetica\, Arial\, sans-serif\; white-space: pre-wrap\;">Recent artist supports include Tones And I\, America The Band\, and Supertramp&rsquo\;s Roger Hodgson. </span><br style="color: rgb(29\, 33\, 41)\; font-family: &quot\;Helvetica Neue&quot\;\, Helvetica\, Arial\, sans-serif\; font-size: 14px\; white-space: pre-wrap\;" />\n<span style="color: rgb(29\, 33\, 41)\; font-family: &quot\;Helvetica Neue&quot\;\, Helvetica\, Arial\, sans-serif\; white-space: pre-wrap\;">In 2020\, Mitch is focusing on writing new music and collaborating with artists including The Temper Trap\, the Pierce Brothers\, and Diesel. </span><br style="color: rgb(29\, 33\, 41)\; font-family: &quot\;Helvetica Neue&quot\;\, Helvetica\, Arial\, sans-serif\; font-size: 14px\; white-space: pre-wrap\;" />\n<span style="color: rgb(29\, 33\, 41)\; font-family: &quot\;Helvetica Neue&quot\;\, Helvetica\, Arial\, sans-serif\; white-space: pre-wrap\;">Take the time to catch Mitch - and his infectious one man band performance.</span><br style="color: rgb(29\, 33\, 41)\; font-family: &quot\;Helvetica Neue&quot\;\, Helvetica\, Arial\, sans-serif\; font-size: 14px\; white-space: pre-wrap\;" />\n<br style="color: rgb(29\, 33\, 41)\; font-family: &quot\;Helvetica Neue&quot\;\, Helvetica\, Arial\, sans-serif\; font-size: 14px\; white-space: pre-wrap\;" />\n<span style="color: rgb(29\, 33\, 41)\; font-family: &quot\;Helvetica Neue&quot\;\, Helvetica\, Arial\, sans-serif\; white-space: pre-wrap\;">ANDREA KIRWIN</span><br style="color: rgb(29\, 33\, 41)\; font-family: &quot\;Helvetica Neue&quot\;\, Helvetica\, Arial\, sans-serif\; font-size: 14px\; white-space: pre-wrap\;" />\n<span style="color: rgb(29\, 33\, 41)\; font-family: &quot\;Helvetica Neue&quot\;\, Helvetica\, Arial\, sans-serif\; white-space: pre-wrap\;">Originally from Townsville and the eldest daughter of a Fijian preacher\, Andrea grew up singing three part harmonies with her siblings and learnt AMEB piano from an early age. Music was her constant companion throughout her education\, however it wasn&#39\;t until her 21st birthday that Andrea was gifted a guitar by a good friend\, and she began writing songs after being inspired by her first live concert by Australian Artist Clare Bowditch. </span><br style="color: rgb(29\, 33\, 41)\; font-family: &quot\;Helvetica Neue&quot\;\, Helvetica\, Arial\, sans-serif\; font-size: 14px\; white-space: pre-wrap\;" />\n<span style="color: rgb(29\, 33\, 41)\; font-family: &quot\;Helvetica Neue&quot\;\, Helvetica\, Arial\, sans-serif\; white-space: pre-wrap\;">The foundation of Andrea&#39\;s songwriting is love\, unity\, peace and community. </span><br style="color: rgb(29\, 33\, 41)\; font-family: &quot\;Helvetica Neue&quot\;\, Helvetica\, Arial\, sans-serif\; font-size: 14px\; white-space: pre-wrap\;" />\n<span style="color: rgb(29\, 33\, 41)\; font-family: &quot\;Helvetica Neue&quot\;\, Helvetica\, Arial\, sans-serif\; white-space: pre-wrap\;">Over the past ten years\, Andrea has been steadily building a national following since first taking to the stage as one half of duo/band &#39\;The Andi and George Band&#39\; in Canberra in 2007\, and as a solo artist from 2009 to now. </span><br style="color: rgb(29\, 33\, 41)\; font-family: &quot\;Helvetica Neue&quot\;\, Helvetica\, Arial\, sans-serif\; font-size: 14px\; white-space: pre-wrap\;" />\n<span style="color: rgb(29\, 33\, 41)\; font-family: &quot\;Helvetica Neue&quot\;\, Helvetica\, Arial\, sans-serif\; white-space: pre-wrap\;">With a warm and disarming stage presence\, an angelic voice\, heart-filled lyrics and entertaining stories\, Andrea continues to share her beautiful songs with all who wish to listen.&#8203\; </span><br style="color: rgb(29\, 33\, 41)\; font-family: &quot\;Helvetica Neue&quot\;\, Helvetica\, Arial\, sans-serif\; font-size: 14px\; white-space: pre-wrap\;" />\n<span style="color: rgb(29\, 33\, 41)\; font-family: &quot\;Helvetica Neue&quot\;\, Helvetica\, Arial\, sans-serif\; white-space: pre-wrap\;">Andrea founded her own independent record label Peace Run Records in 2009 and has since released three full length albums: &#39\;From the Ground Up&#39\; (2013)\, &#39\;The Story of Us&#39\; (2015)\, and &#39\;A Quiet Revolution&#39\; (2017). </span><br style="color: rgb(29\, 33\, 41)\; font-family: &quot\;Helvetica Neue&quot\;\, Helvetica\, Arial\, sans-serif\; font-size: 14px\; white-space: pre-wrap\;" />\n<span style="color: rgb(29\, 33\, 41)\; font-family: &quot\;Helvetica Neue&quot\;\, Helvetica\, Arial\, sans-serif\; white-space: pre-wrap\;">Her music can be described as feel good\, soul-infused songs from the heart.</span></span>
LOCATION:The Bunker Imperial Hotel Eumundi 1 Etheridge Street Eumundi QLD 4562
UID:e.3473.1743
SEQUENCE:3
DTSTAMP:20260421T155432Z
URL:https://business.eumundichamber.com.au/events/details/mitch-king-at-the-imperial-hotel-eumundi-1743
END:VEVENT

END:VCALENDAR
