BEGIN:VCALENDAR
VERSION:2.0
PRODID:-//ChamberMaster//Event Calendar 2.0//EN
METHOD:PUBLISH
X-PUBLISHED-TTL:P3D
REFRESH-INTERVAL:P3D
CALSCALE:GREGORIAN
BEGIN:VEVENT
DTSTART:20191002T073000Z
DTEND:20191002T083000Z
X-MICROSOFT-CDO-ALLDAYEVENT:FALSE
SUMMARY:Mixed Fitness Class with B Active Personal Training and Group Fitness
DESCRIPTION:
X-ALT-DESC;FMTTYPE=text/html:
LOCATION:Eumundi Amphitheatre 67 Memorial Drive EUMUNDI QLD 4562
UID:e.3473.1263
SEQUENCE:3
DTSTAMP:20260421T231656Z
URL:https://business.eumundichamber.com.au/events/details/mixed-fitness-class-with-b-active-personal-training-and-group-fitness-10-02-2019-1263
END:VEVENT

END:VCALENDAR
