BEGIN:VCALENDAR
VERSION:2.0
PRODID:-//ChamberMaster//Event Calendar 2.0//EN
METHOD:PUBLISH
X-PUBLISHED-TTL:P3D
REFRESH-INTERVAL:P3D
CALSCALE:GREGORIAN
BEGIN:VEVENT
DTSTART;VALUE=DATE:20200514
DTEND;VALUE=DATE:20200518
TRANSP:TRANSPARENT
X-MICROSOFT-CDO-ALLDAYEVENT:TRUE
SUMMARY:Noosa Eat and Drink Festival CANCELLED
DESCRIPTION:CANCELLED
X-ALT-DESC;FMTTYPE=text/html:CANCELLED
LOCATION:
UID:e.3473.1731
SEQUENCE:3
DTSTAMP:20260421T125652Z
URL:https://business.eumundichamber.com.au/events/details/noosa-eat-and-drink-festival-cancelled-1731
END:VEVENT

END:VCALENDAR
