BEGIN:VCALENDAR
VERSION:2.0
PRODID:-//ChamberMaster//Event Calendar 2.0//EN
METHOD:PUBLISH
X-PUBLISHED-TTL:P3D
REFRESH-INTERVAL:P3D
CALSCALE:GREGORIAN
BEGIN:VEVENT
DTSTART:20230325T000000Z
DTEND:20230325T110000Z
X-MICROSOFT-CDO-ALLDAYEVENT:FALSE
SUMMARY:Off Beat Music Festival
DESCRIPTION:SAVE THE DATE!\n\n\n\nMore info coming soon - follow their socials and check the website for updates.
X-ALT-DESC;FMTTYPE=text/html:<span style="font-size:14px\;">SAVE THE DATE!<br />\n<br />\nMore info coming soon - follow their <a href="https://www.facebook.com/offbeatmusicfestival/">socials</a>&nbsp\;and check the <a href="https://offbeatmusicfestival.com.au">website</a> for updates.&nbsp\;</span><br />\n<br />\n<br />\n&nbsp\;
LOCATION:
UID:e.3473.2434
SEQUENCE:3
DTSTAMP:20260421T231337Z
URL:https://business.eumundichamber.com.au/events/details/off-beat-music-festival-2434
END:VEVENT

END:VCALENDAR
