BEGIN:VCALENDAR
VERSION:2.0
PRODID:-//ChamberMaster//Event Calendar 2.0//EN
METHOD:PUBLISH
X-PUBLISHED-TTL:P3D
REFRESH-INTERVAL:P3D
CALSCALE:GREGORIAN
BEGIN:VEVENT
DTSTART:20190928T000000Z
DTEND:20190929T060000Z
X-MICROSOFT-CDO-ALLDAYEVENT:FALSE
SUMMARY:Paper Garment Making Workshop
DESCRIPTION:Workshop Facilitator is Cynthia Hawkins - Winner of the Cocoon People's Choice at the 2018 Paper on Skin Wearable Art Competition in Burnie Tasmania with this stunning 90% paper creation - photo above -\n\nCynthia was also Winner of the 2019 Australian Wearable Art Haute-Couture Category. Best Headpiece and Runner-Up in the Avant-garde Category .\n\n* You will learn skills and techniques while creating your own Paper Garment Creation to take home at end of the workshop. \n\n* There will be a Photographer on hand to take a photo of each completed work \n\n* Plus a presentation by Lyndal Thorne coordinator of Paper on Skin\n\n* Morning tea supplied\n\n* Fee $100\n\n* Limited numbers \n\n* To book email Wendy inspire@australianwearableart.com.au
X-ALT-DESC;FMTTYPE=text/html:Workshop Facilitator is Cynthia Hawkins - Winner of the Cocoon People&#39\;s Choice at the 2018 Paper on Skin Wearable Art Competition in Burnie Tasmania with this stunning 90% paper creation - photo above -<br />\nCynthia was also Winner of the 2019 Australian Wearable Art Haute-Couture Category. Best Headpiece and Runner-Up in the Avant-garde Category .<br />\n* You will learn skills and techniques while creating your own Paper Garment Creation to take home at end of the workshop.&nbsp\;<br />\n* There will be a Photographer on hand to take a photo of each completed work&nbsp\;<br />\n* Plus a presentation by Lyndal Thorne coordinator of Paper on Skin<br />\n* Morning tea supplied<br />\n* Fee $100<br />\n* Limited numbers&nbsp\;<br />\n* To book email Wendy inspire@australianwearableart.com.au&nbsp\;
LOCATION:Eumundi Queensland
UID:e.3473.1720
SEQUENCE:3
DTSTAMP:20260422T002006Z
URL:https://business.eumundichamber.com.au/events/details/paper-garment-making-workshop-1720
END:VEVENT

END:VCALENDAR
