BEGIN:VCALENDAR
VERSION:2.0
PRODID:-//ChamberMaster//Event Calendar 2.0//EN
METHOD:PUBLISH
X-PUBLISHED-TTL:P3D
REFRESH-INTERVAL:P3D
CALSCALE:GREGORIAN
BEGIN:VEVENT
DTSTART:20221205T070000Z
DTEND:20221205T100000Z
X-MICROSOFT-CDO-ALLDAYEVENT:FALSE
SUMMARY:POSTPONED: Eumundi Chamber Christmas Party
DESCRIPTION:THIS EVENT HAS BEEN POSTPONED TO FEBRUARY 2023. WE THANK SPONSORS\, MEMBERS AND BUSINESSES WHO DID REGISTER FOR THIS EVENT. WE LOOK FORWARD TO BRINGING THIS EVENT TO YOU ALL IN 2023.\n\n\n\nMembers\, their partners\, team members\, business associates and colleagues are invited to join us as we celebrate\, reconnect and welcome a fresh new 2023. \n\n\n\nTogether with sponsoring members Ray White Rural Eumundi and Joe's Waterhole Hotel\, Eumundi Chamber is excited to welcome you and your partner to our Christmas Networking event on the adjoining decks of Ray White Eumundi and Popina on Monday December 5\, 2022. \n\n\n\nVicki and the Ray White team are thrilled to be able share with you the Ray White Story and "The Shed That Dreamed" with special guest Matt White. \n\n\n\nAnd in case you missed their open night\, Matt and James from Joe's Waterhole Hotel proudly present the plans and designs for the redevelopment of this iconic site as the new venue for the Matso's brand in Queensland for you take a closer look. \n\n\n\nAfter the year that's been\, this is the perfect chance to kick back and unwind as you catch up with friends and colleagues and enjoy the divine tastes of Italian cuisine Al fresco style under the stars by one of Eumundi's outstanding restaurants. \n\n\n\nWe are looking forward to celebrating with the entire 4562 business community - everyone is welcome. \n\n\n\nRSVP's are essential by 4pm\, 30 November.\n\n\n\nClick the link to register and secure your ticket today!
X-ALT-DESC;FMTTYPE=text/html:THIS EVENT HAS BEEN POSTPONED TO FEBRUARY 2023. WE THANK SPONSORS\, MEMBERS AND BUSINESSES WHO DID REGISTER FOR THIS EVENT. WE LOOK FORWARD TO BRINGING THIS EVENT TO YOU ALL IN 2023.<br />\n<br />\nMembers\, their partners\, team members\, business associates and colleagues are invited to join us as we celebrate\, reconnect and welcome a fresh new 2023.&nbsp\;<br />\n<br />\nTogether with sponsoring members Ray White Rural Eumundi and Joe&#39\;s Waterhole Hotel\, Eumundi Chamber is excited to welcome you and your partner to our Christmas Networking event on the adjoining decks of Ray White Eumundi and Popina on Monday December 5\, 2022.&nbsp\;<br />\n<br />\nVicki and the Ray White team are thrilled to be able share with you the Ray White Story and &quot\;The Shed That Dreamed&quot\; with special guest Matt White.&nbsp\;<br />\n<br />\nAnd in case you missed their open night\, Matt and James from Joe&#39\;s Waterhole Hotel proudly present the plans and designs for the redevelopment of this iconic site as the new venue for the Matso&#39\;s brand in Queensland for you take a closer look.&nbsp\;<br />\n<br />\nAfter the year that&#39\;s been\, this is the perfect chance to kick back and unwind as you catch up with friends and colleagues and enjoy the divine tastes of Italian cuisine Al fresco style under the stars by one of Eumundi&#39\;s outstanding restaurants.&nbsp\;<br />\n<br />\nWe are looking forward to celebrating with the entire 4562 business community&nbsp\;- everyone is welcome.&nbsp\;<br />\n<br />\nRSVP&#39\;s are essential by 4pm\, 30 November.<br />\n<br />\nClick the link to register and secure your ticket today!&nbsp\;
LOCATION:On the Deck Ray White Rural Eumundi\, and Popina 1/104 Memorial Drive EUMUNDI QLD 4562
UID:e.3473.2425
SEQUENCE:3
DTSTAMP:20260421T190704Z
URL:https://business.eumundichamber.com.au/events/details/postponed-eumundi-chamber-christmas-party-2425
END:VEVENT

END:VCALENDAR
