BEGIN:VCALENDAR
VERSION:2.0
PRODID:-//ChamberMaster//Event Calendar 2.0//EN
METHOD:PUBLISH
X-PUBLISHED-TTL:P3D
REFRESH-INTERVAL:P3D
CALSCALE:GREGORIAN
BEGIN:VEVENT
DTSTART:20190902T230000Z
DTEND:20190903T000000Z
X-MICROSOFT-CDO-ALLDAYEVENT:FALSE
SUMMARY:Strength Class with B Active Personal Fitness and Group Training
DESCRIPTION:
X-ALT-DESC;FMTTYPE=text/html:
LOCATION:Eumundi Amphitheatre 67 Memorial Drive EUMUNDI QLD 4562
UID:e.3473.1459
SEQUENCE:3
DTSTAMP:20260422T015534Z
URL:https://business.eumundichamber.com.au/events/details/strength-class-with-b-active-group-training-and-personal-fitness-09-03-2019-1459
END:VEVENT

END:VCALENDAR
