BEGIN:VCALENDAR
VERSION:2.0
PRODID:-//ChamberMaster//Event Calendar 2.0//EN
METHOD:PUBLISH
X-PUBLISHED-TTL:P3D
REFRESH-INTERVAL:P3D
CALSCALE:GREGORIAN
BEGIN:VEVENT
DTSTART:20200403T073000Z
DTEND:20200403T093000Z
X-MICROSOFT-CDO-ALLDAYEVENT:FALSE
SUMMARY:Sunshine Coast Business Awards Launch
DESCRIPTION:
X-ALT-DESC;FMTTYPE=text/html:
LOCATION:SOLA\, Twin Waters Novotel Sunshine Coast Resort 270 Ocean Drive Twin Waters QLD 4564
UID:e.3473.1741
SEQUENCE:3
DTSTAMP:20260421T155359Z
URL:https://business.eumundichamber.com.au/events/details/sunshine-coast-business-awards-launch-1741
END:VEVENT

END:VCALENDAR
