BEGIN:VCALENDAR
VERSION:2.0
PRODID:-//ChamberMaster//Event Calendar 2.0//EN
METHOD:PUBLISH
X-PUBLISHED-TTL:P3D
REFRESH-INTERVAL:P3D
CALSCALE:GREGORIAN
BEGIN:VEVENT
DTSTART;VALUE=DATE:20200225
DTEND;VALUE=DATE:20200226
TRANSP:TRANSPARENT
X-MICROSOFT-CDO-ALLDAYEVENT:TRUE
SUMMARY:Tendering for Business Workshop
DESCRIPTION:https://www.eventbrite.com.au/e/tendering-for-business-workshop-maroochydore-25-february-2020-tickets-90718947815
X-ALT-DESC;FMTTYPE=text/html:<a href="https://www.eventbrite.com.au/e/tendering-for-business-workshop-maroochydore-25-february-2020-tickets-90718947815">https://www.eventbrite.com.au/e/tendering-for-business-workshop-maroochydore-25-february-2020-tickets-90718947815</a>
LOCATION:
UID:e.3473.1734
SEQUENCE:3
DTSTAMP:20260421T172503Z
URL:https://business.eumundichamber.com.au/events/details/tendering-for-business-workshop-1734
END:VEVENT

END:VCALENDAR
