BEGIN:VCALENDAR
VERSION:2.0
PRODID:-//ChamberMaster//Event Calendar 2.0//EN
METHOD:PUBLISH
X-PUBLISHED-TTL:P3D
REFRESH-INTERVAL:P3D
CALSCALE:GREGORIAN
BEGIN:VEVENT
DTSTART:20251030T210000Z
DTEND:20251030T230000Z
X-MICROSOFT-CDO-ALLDAYEVENT:FALSE
SUMMARY:Turn AI into Revenue: Neighbours and Networks Breakfast with Eumundi and Cooroy Chambers
DESCRIPTION:Turn AI Into Revenue: Automating Content to Capture More Leads and Convert Faster with Bart Puszko\, Blue Seas AI Consulting\n\nThe new competitive edge isn't about working harder. It's about applying intelligence! If your business isn't yet leveraging AI to generate leads and streamline daily tasks\, you're leaving revenue on the table.\n\nJoin the Cooroy and Eumundi Chambers of Commerce for a high-value breakfast session with Bart Puszko\, Founder of Blue Seas AI Consulting. \n\n\n\nBart\, an award-nominated consultant and government mentor\, specialises in translating elite strategic thinking into pragmatic\, actionable AI systems that drive tangible business growth.\n\nThis session will cut through the hype to focus on the immediate\, practical AI wins that drive Customer Acquisition and create leads.\n\nUnlock Immediate\, Revenue-Driving Automation:\n\n\n\n	Automating your content machine: Discover how to use simple AI tools to generate high-quality\, on-brand content (social media posts\, email newsletters\, blogs\, videos\, ads\, podcasts) 20 times faster. Consistency in content equals better engagement and a stronger pipeline.\n\n\n\n\n\n	Smarter lead capture with AI: See how an AI-powered content strategy naturally funnels leads into your system\, allowing you to focus on qualified enquiries and conversion rate optimisation.\n\n\n\n\n\n	The repurposing blueprint: Learn the proven framework to turn one piece of core effort (a short video) into a full month of social media content across all major platforms\, skyrocketing your reach and impact.\n\n\n\nThis isn't about teaching you the basics\; it's about providing a strategic blueprint to immediately implement AI into your Marketing and Sales functions to gain a distinct advantage.\n\nDon't sit back and watch your competitors pull ahead. This is your chance to evolve your business through AI technology.\n\n\n\nSecure your spot today and start turning AI into reliable revenue!
X-ALT-DESC;FMTTYPE=text/html:<div style="color:rgb(80\, 0\, 80)\;font-family:Arial\, Helvetica\, sans-serif\;font-size:small\;"><span style="font-size:16px\;"><span style="font-family:arial\;"><strong><span style="color:black\;">Turn AI Into Revenue: Automating Content to Capture More Leads and Convert Faster with Bart Puszko\, Blue Seas AI Consulting</span></strong></span></span></div>\n\n<div style="color:rgb(80\, 0\, 80)\;font-family:Arial\, Helvetica\, sans-serif\;font-size:small\;margin-top:12pt\;margin-bottom:12pt\;"><span style="font-size:16px\;"><span style="font-family:arial\;"><span style="color:black\;">The new competitive edge isn&#39\;t about working harder. It&#39\;s about applying intelligence!&nbsp\;If your business isn&#39\;t yet leveraging AI to generate leads and streamline daily tasks\, you&#39\;re leaving revenue on the table.</span></span></span></div>\n\n<div style="color:rgb(80\, 0\, 80)\;font-family:Arial\, Helvetica\, sans-serif\;font-size:small\;margin-top:12pt\;margin-bottom:12pt\;"><span style="font-size:16px\;"><span style="font-family:arial\;"><strong><span style="color:black\;">Join the Cooroy and Eumundi Chambers of Commerce&nbsp\;</span></strong><span style="color:black\;">for a high-value breakfast session with&nbsp\;<strong>Bart Puszko\, Founder of Blue Seas AI Consulting.&nbsp\;</strong><br />\n<br />\nBart\, an award-nominated consultant and government mentor\, specialises in translating elite strategic thinking into pragmatic\, actionable AI systems&nbsp\;that drive tangible business growth.</span></span></span></div>\n\n<div style="color:rgb(80\, 0\, 80)\;font-family:Arial\, Helvetica\, sans-serif\;font-size:small\;margin-top:12pt\;margin-bottom:12pt\;"><span style="font-size:16px\;"><span style="font-family:arial\;"><strong><span style="color:black\;">This session will cut through the hype to focus on the immediate\, practical AI wins that drive Customer Acquisition&nbsp\;and create leads.</span></strong></span></span></div>\n\n<div style="color:rgb(80\, 0\, 80)\;font-family:Arial\, Helvetica\, sans-serif\;font-size:small\;margin-top:12pt\;margin-bottom:12pt\;"><span style="font-size:16px\;"><span style="font-family:arial\;"><strong><span style="color:black\;">Unlock Immediate\, Revenue-Driving Automation:</span></strong></span></span></div>\n\n<div style="color:rgb(80\, 0\, 80)\;font-family:Arial\, Helvetica\, sans-serif\;font-size:small\;margin-top:12pt\;margin-bottom:12pt\;">\n<ul>\n	<li style="margin: 0px 0px 0px 15px\; color: black\;"><span style="font-size:16px\;"><span style="font-family:arial\;">Automating your content machine:&nbsp\;Discover how to use simple AI tools to generate high-quality\, on-brand content (social media posts\, email newsletters\, blogs\, videos\, ads\, podcasts) 20 times faster. Consistency in content equals better engagement and a stronger pipeline.</span></span></li>\n</ul>\n</div>\n\n<div style="color:rgb(80\, 0\, 80)\;font-family:Arial\, Helvetica\, sans-serif\;font-size:small\;margin-top:12pt\;margin-bottom:12pt\;">\n<ul>\n	<li style="margin: 0px 0px 0px 15px\; color: black\;"><span style="font-size:16px\;"><span style="font-family:arial\;">Smarter lead capture with AI:&nbsp\;See how an AI-powered content strategy naturally funnels leads into your system\, allowing you to focus on qualified enquiries and conversion rate optimisation.</span></span></li>\n</ul>\n</div>\n\n<div style="color:rgb(80\, 0\, 80)\;font-family:Arial\, Helvetica\, sans-serif\;font-size:small\;margin-top:12pt\;margin-bottom:12pt\;">\n<ul>\n	<li style="margin: 0px 0px 0px 15px\; color: black\;"><span style="font-size:16px\;"><span style="font-family:arial\;">The repurposing blueprint:&nbsp\;Learn the proven framework to turn one piece of core effort (a short video) into a full month of social media content across all major platforms\, skyrocketing your reach and impact.</span></span></li>\n</ul>\n</div>\n\n<div style="color:rgb(80\, 0\, 80)\;font-family:Arial\, Helvetica\, sans-serif\;font-size:small\;margin-top:12pt\;margin-bottom:12pt\;"><span style="font-size:16px\;"><span style="font-family:arial\;"><strong><span style="color:black\;">This isn&#39\;t about teaching you the basics\; it&rsquo\;s about providing a strategic blueprint to immediately implement AI into your Marketing&nbsp\;and Sales&nbsp\;functions to gain a distinct advantage.</span></strong></span></span></div>\n\n<div style="color:rgb(80\, 0\, 80)\;font-family:Arial\, Helvetica\, sans-serif\;font-size:small\;margin-top:12pt\;margin-bottom:12pt\;"><span style="font-size:16px\;"><span style="font-family:arial\;"><strong><span style="color:black\;">Don&#39\;t sit back and watch your competitors pull ahead. This is your chance to evolve your business through AI technology.</span></strong></span></span><br />\n<br />\n<strong style="color: rgb(80\, 0\, 80)\; font-family: arial\; font-size: 16px\;"><span style="color: black\;">Secure your spot today&nbsp\;and start turning AI into reliable revenue!</span></strong></div>\n
LOCATION:Alfresco's Garden Cafe 1381 Eumundi Noosa Road\, Eumundi
UID:e.3473.5727
SEQUENCE:3
DTSTAMP:20260421T132129Z
URL:https://business.eumundichamber.com.au/events/details/turn-ai-into-revenue-neighbours-and-networks-breakfast-with-eumundi-and-cooroy-chambers-5727
END:VEVENT

END:VCALENDAR
