BEGIN:VCALENDAR
VERSION:2.0
PRODID:-//ChamberMaster//Event Calendar 2.0//EN
METHOD:PUBLISH
X-PUBLISHED-TTL:P3D
REFRESH-INTERVAL:P3D
CALSCALE:GREGORIAN
BEGIN:VEVENT
DTSTART:20230208T023000Z
DTEND:20230208T033000Z
X-MICROSOFT-CDO-ALLDAYEVENT:FALSE
SUMMARY:Understanding your carbon snapshot with ecoBiz
DESCRIPTION:CCIQ ecoBiz is excited to announce the ecoBiz Carbon Snapshot tool which can now provide carbon emission figures based on your provided energy\, water and waste data. It converts information from your bills into carbon emissions that can be then aggregated to provide a carbon snapshot.\n\n\n\nJoin CCIQ and guest speaker Charlotte Taylor\, the ecoBiz Program Manager to learn how this tool can help your business work towards sustainability.\n\n\n\nREAD MORE...
X-ALT-DESC;FMTTYPE=text/html:<p style="margin: 0px\; font-stretch: normal\; font-size: 14px\; line-height: normal\; font-family: Helvetica\; color: rgb(0\, 0\, 0)\; -webkit-text-stroke-width: initial\; -webkit-text-stroke-color: rgb(77\, 77\, 77)\;"><span style="font-kerning: none">CCIQ ecoBiz is excited to announce the ecoBiz&nbsp\;Carbon Snapshot tool&nbsp\;which can now provide carbon emission figures based on your provided energy\, water and waste data. It converts information from your bills into carbon emissions that can be then aggregated to provide a carbon snapshot.<br />\n<br />\nJoin CCIQ and guest speaker Charlotte Taylor\, the ecoBiz Program Manager to learn how this tool can help your business work towards sustainability.<br />\n<br />\n<a href="https://www.cciq.com.au/news-and-resources/webinars-and-events/understanding-your-carbon-snapshot-with-ecobiz">READ MORE...</a></span><br />\n&nbsp\;</p>\n
LOCATION:Zoom Webinar
UID:e.3473.2438
SEQUENCE:3
DTSTAMP:20260421T214744Z
URL:https://business.eumundichamber.com.au/events/details/understanding-your-carbon-snapshot-with-ecobiz-2438
END:VEVENT

END:VCALENDAR
