BEGIN:VCALENDAR
VERSION:2.0
PRODID:-//ChamberMaster//Event Calendar 2.0//EN
METHOD:PUBLISH
X-PUBLISHED-TTL:P3D
REFRESH-INTERVAL:P3D
CALSCALE:GREGORIAN
BEGIN:VEVENT
DTSTART:20230216T073000Z
DTEND:20230216T093000Z
X-MICROSOFT-CDO-ALLDAYEVENT:FALSE
SUMMARY:Visit Sunshine Coast Industry Networking Night
DESCRIPTION:Celebrating the successful summer season\, VSC's first networking night for 2023 promises to "create another sunshine moment" on Mooloolaba's latest floating restaurant for Prawns\, Beers\, and Good Vibes.
X-ALT-DESC;FMTTYPE=text/html:<p style="margin: 0px\; font-stretch: normal\; font-size: 14px\; line-height: normal\; font-family: &quot\;Helvetica Neue&quot\;\; color: rgb(0\, 0\, 0)\; -webkit-text-stroke-width: initial\; -webkit-text-stroke-color: rgb(0\, 0\, 0)\; background-color: rgba(0\, 0\, 0\, 0)\;"><span style="font-kerning: none"><span style="font-size:14px\;">Celebrating the successful summer season\, VSC&rsquo\;s first networking night for 2023 promises to <i>&ldquo\;create another sunshine moment&rdquo\;</i> on Mooloolaba&rsquo\;s latest floating restaurant for Prawns\, Beers\, and Good Vibes</span>. </span><span style="font-stretch: normal\; font-size: 14.7px\; line-height: normal\; font-family: &quot\;Apple Color Emoji&quot\;\; -webkit-font-kerning: none\;">&#129424\;&#127867\;</span></p>\n
LOCATION:Prawn Star Mooloolaba Wharf
UID:e.3473.2428
SEQUENCE:3
DTSTAMP:20260421T214659Z
URL:https://business.eumundichamber.com.au/events/details/visit-sunshine-coast-industry-networking-night-2428
END:VEVENT

END:VCALENDAR
